BEGIN:VCALENDAR
VERSION:2.0
PRODID:-//Mental Wellness Center - ECPv6.15.20//NONSGML v1.0//EN
CALSCALE:GREGORIAN
METHOD:PUBLISH
X-WR-CALNAME:Mental Wellness Center
X-ORIGINAL-URL:https://mentalwellnesscenter.org
X-WR-CALDESC:Events for Mental Wellness Center
REFRESH-INTERVAL;VALUE=DURATION:PT1H
X-Robots-Tag:noindex
X-PUBLISHED-TTL:PT1H
BEGIN:VTIMEZONE
TZID:UTC
BEGIN:STANDARD
TZOFFSETFROM:+0000
TZOFFSETTO:+0000
TZNAME:UTC
DTSTART:20230101T000000
END:STANDARD
END:VTIMEZONE
BEGIN:VEVENT
DTSTART;TZID=UTC:20240904T163000
DTEND;TZID=UTC:20240904T180000
DTSTAMP:20260421T005703
CREATED:20240207T173807Z
LAST-MODIFIED:20240207T173831Z
UID:10005654-1725467400-1725472800@mentalwellnesscenter.org
SUMMARY:Anxiety Workshop for Adults
DESCRIPTION:Join us in a community group setting to learn ways to cope and/or live with anxiety. \nA safe space to work together using The Anxiety Workbook by Arlin Cunic\, M.A.
URL:https://mentalwellnesscenter.org/event/anxiety-workshop-for-adults-2/2024-09-04/
LOCATION:Mental Wellness Center – Conference Room A\, 617 Garden Street\, Santa Barbara\, CA\, 93101\, United States
CATEGORIES:Community Wellness Program
ATTACH;FMTTYPE=image/png:https://mentalwellnesscenter.org/wp-content/uploads/2023/12/Screenshot-2023-12-29-115115.png
END:VEVENT
BEGIN:VEVENT
DTSTART;TZID=UTC:20240906T103000
DTEND;TZID=UTC:20240906T120000
DTSTAMP:20260421T005703
CREATED:20240515T181417Z
LAST-MODIFIED:20241003T175629Z
UID:10006120-1725618600-1725624000@mentalwellnesscenter.org
SUMMARY:Family Support Group
DESCRIPTION:A support group where family members supporting a loved-one living with a mental health disorder can share their stories\, build coping and communication skills\, and learn from each other. \nThis group meets in person at Mental Wellness Center’s Conference Room A\, located at 617 Garden Street. If you prefer remote instruction\, Family Support Group meets via Zoom on Mondays at 6:00pm. If you are interested in registered for either group\, please contact our Family Advocate at lhernandez@mentalwellnesscenter.org.
URL:https://mentalwellnesscenter.org/event/family-support-group-3-2-4/2024-09-06/
LOCATION:Mental Wellness Center\, 617 Garden Street\, Santa Barbara\, CA\, 93101\, United States
CATEGORIES:Community Wellness Program
ATTACH;FMTTYPE=image/jpeg:https://mentalwellnesscenter.org/wp-content/uploads/2023/11/temp-family-support-group.jpg
END:VEVENT
BEGIN:VEVENT
DTSTART;TZID=UTC:20240911T163000
DTEND;TZID=UTC:20240911T180000
DTSTAMP:20260421T005703
CREATED:20240207T173807Z
LAST-MODIFIED:20240207T173831Z
UID:10005655-1726072200-1726077600@mentalwellnesscenter.org
SUMMARY:Anxiety Workshop for Adults
DESCRIPTION:Join us in a community group setting to learn ways to cope and/or live with anxiety. \nA safe space to work together using The Anxiety Workbook by Arlin Cunic\, M.A.
URL:https://mentalwellnesscenter.org/event/anxiety-workshop-for-adults-2/2024-09-11/
LOCATION:Mental Wellness Center – Conference Room A\, 617 Garden Street\, Santa Barbara\, CA\, 93101\, United States
CATEGORIES:Community Wellness Program
ATTACH;FMTTYPE=image/png:https://mentalwellnesscenter.org/wp-content/uploads/2023/12/Screenshot-2023-12-29-115115.png
END:VEVENT
BEGIN:VEVENT
DTSTART;TZID=UTC:20240913T103000
DTEND;TZID=UTC:20240913T120000
DTSTAMP:20260421T005703
CREATED:20240515T181417Z
LAST-MODIFIED:20241003T175629Z
UID:10006121-1726223400-1726228800@mentalwellnesscenter.org
SUMMARY:Family Support Group
DESCRIPTION:A support group where family members supporting a loved-one living with a mental health disorder can share their stories\, build coping and communication skills\, and learn from each other. \nThis group meets in person at Mental Wellness Center’s Conference Room A\, located at 617 Garden Street. If you prefer remote instruction\, Family Support Group meets via Zoom on Mondays at 6:00pm. If you are interested in registered for either group\, please contact our Family Advocate at lhernandez@mentalwellnesscenter.org.
URL:https://mentalwellnesscenter.org/event/family-support-group-3-2-4/2024-09-13/
LOCATION:Mental Wellness Center\, 617 Garden Street\, Santa Barbara\, CA\, 93101\, United States
CATEGORIES:Community Wellness Program
ATTACH;FMTTYPE=image/jpeg:https://mentalwellnesscenter.org/wp-content/uploads/2023/11/temp-family-support-group.jpg
END:VEVENT
BEGIN:VEVENT
DTSTART;TZID=UTC:20240918T163000
DTEND;TZID=UTC:20240918T180000
DTSTAMP:20260421T005703
CREATED:20240207T173807Z
LAST-MODIFIED:20240207T173831Z
UID:10005656-1726677000-1726682400@mentalwellnesscenter.org
SUMMARY:Anxiety Workshop for Adults
DESCRIPTION:Join us in a community group setting to learn ways to cope and/or live with anxiety. \nA safe space to work together using The Anxiety Workbook by Arlin Cunic\, M.A.
URL:https://mentalwellnesscenter.org/event/anxiety-workshop-for-adults-2/2024-09-18/
LOCATION:Mental Wellness Center – Conference Room A\, 617 Garden Street\, Santa Barbara\, CA\, 93101\, United States
CATEGORIES:Community Wellness Program
ATTACH;FMTTYPE=image/png:https://mentalwellnesscenter.org/wp-content/uploads/2023/12/Screenshot-2023-12-29-115115.png
END:VEVENT
BEGIN:VEVENT
DTSTART;TZID=UTC:20240920T103000
DTEND;TZID=UTC:20240920T120000
DTSTAMP:20260421T005703
CREATED:20240515T181417Z
LAST-MODIFIED:20241003T175629Z
UID:10006122-1726828200-1726833600@mentalwellnesscenter.org
SUMMARY:Family Support Group
DESCRIPTION:A support group where family members supporting a loved-one living with a mental health disorder can share their stories\, build coping and communication skills\, and learn from each other. \nThis group meets in person at Mental Wellness Center’s Conference Room A\, located at 617 Garden Street. If you prefer remote instruction\, Family Support Group meets via Zoom on Mondays at 6:00pm. If you are interested in registered for either group\, please contact our Family Advocate at lhernandez@mentalwellnesscenter.org.
URL:https://mentalwellnesscenter.org/event/family-support-group-3-2-4/2024-09-20/
LOCATION:Mental Wellness Center\, 617 Garden Street\, Santa Barbara\, CA\, 93101\, United States
CATEGORIES:Community Wellness Program
ATTACH;FMTTYPE=image/jpeg:https://mentalwellnesscenter.org/wp-content/uploads/2023/11/temp-family-support-group.jpg
END:VEVENT
BEGIN:VEVENT
DTSTART;TZID=UTC:20240925T163000
DTEND;TZID=UTC:20240925T180000
DTSTAMP:20260421T005703
CREATED:20240207T173807Z
LAST-MODIFIED:20240207T173831Z
UID:10005657-1727281800-1727287200@mentalwellnesscenter.org
SUMMARY:Anxiety Workshop for Adults
DESCRIPTION:Join us in a community group setting to learn ways to cope and/or live with anxiety. \nA safe space to work together using The Anxiety Workbook by Arlin Cunic\, M.A.
URL:https://mentalwellnesscenter.org/event/anxiety-workshop-for-adults-2/2024-09-25/
LOCATION:Mental Wellness Center – Conference Room A\, 617 Garden Street\, Santa Barbara\, CA\, 93101\, United States
CATEGORIES:Community Wellness Program
ATTACH;FMTTYPE=image/png:https://mentalwellnesscenter.org/wp-content/uploads/2023/12/Screenshot-2023-12-29-115115.png
END:VEVENT
BEGIN:VEVENT
DTSTART;TZID=UTC:20240926T190000
DTEND;TZID=UTC:20240926T203000
DTSTAMP:20260421T005703
CREATED:20240207T173638Z
LAST-MODIFIED:20240207T173639Z
UID:10004332-1727377200-1727382600@mentalwellnesscenter.org
SUMMARY:NAMI Speaker Meeting
DESCRIPTION:
URL:https://mentalwellnesscenter.org/event/nami-speaker-meeting-2/2024-09-26/
LOCATION:Mental Wellness Center – Fellowship Level\, 617 Garden Street\, Santa Barbara\, 93101\, United States
CATEGORIES:Community Wellness Program,NAMI SB
ATTACH;FMTTYPE=image/png:https://mentalwellnesscenter.org/wp-content/uploads/2023/10/tile-public-policy-advocacy.png
END:VEVENT
BEGIN:VEVENT
DTSTART;TZID=UTC:20240927T103000
DTEND;TZID=UTC:20240927T120000
DTSTAMP:20260421T005703
CREATED:20240515T181417Z
LAST-MODIFIED:20241003T175629Z
UID:10006123-1727433000-1727438400@mentalwellnesscenter.org
SUMMARY:Family Support Group
DESCRIPTION:A support group where family members supporting a loved-one living with a mental health disorder can share their stories\, build coping and communication skills\, and learn from each other. \nThis group meets in person at Mental Wellness Center’s Conference Room A\, located at 617 Garden Street. If you prefer remote instruction\, Family Support Group meets via Zoom on Mondays at 6:00pm. If you are interested in registered for either group\, please contact our Family Advocate at lhernandez@mentalwellnesscenter.org.
URL:https://mentalwellnesscenter.org/event/family-support-group-3-2-4/2024-09-27/
LOCATION:Mental Wellness Center\, 617 Garden Street\, Santa Barbara\, CA\, 93101\, United States
CATEGORIES:Community Wellness Program
ATTACH;FMTTYPE=image/jpeg:https://mentalwellnesscenter.org/wp-content/uploads/2023/11/temp-family-support-group.jpg
END:VEVENT
BEGIN:VEVENT
DTSTART;TZID=UTC:20240928T100000
DTEND;TZID=UTC:20240928T120000
DTSTAMP:20260421T005703
CREATED:20241003T183325Z
LAST-MODIFIED:20241003T183325Z
UID:10006832-1727517600-1727524800@mentalwellnesscenter.org
SUMMARY:NAMI Family to Family Class
DESCRIPTION:NAMI Family-to-Family is a free\, 8-session educational program for family\, significant others and friends of people with mental health conditions. It is a designated evidenced-based program. This means that research shows that the program significantly improves the coping and problem-solving abilities of the people closest to a person with a mental health condition. \nNAMI Family-to-Family is taught by NAMI-trained family members who have been there\, and includes presentations\, discussions and interactive exercises. \nThe class is held on the second floor of the Mental Wellness Center. Prior registration is required. Please call the office at (805)-884-8440 for more information.
URL:https://mentalwellnesscenter.org/event/nami-family-to-family-class/2024-09-28/
LOCATION:Mental Wellness Center\, 617 Garden Street\, Santa Barbara\, CA\, 93101\, United States
CATEGORIES:Community Wellness Program,NAMI SB
ATTACH;FMTTYPE=image/png:https://mentalwellnesscenter.org/wp-content/uploads/2024/10/namisantabarbara-logo-blue.png
END:VEVENT
END:VCALENDAR