BEGIN:VCALENDAR
VERSION:2.0
PRODID:-//Mental Wellness Center - ECPv6.15.20//NONSGML v1.0//EN
CALSCALE:GREGORIAN
METHOD:PUBLISH
X-WR-CALNAME:Mental Wellness Center
X-ORIGINAL-URL:https://mentalwellnesscenter.org
X-WR-CALDESC:Events for Mental Wellness Center
REFRESH-INTERVAL;VALUE=DURATION:PT1H
X-Robots-Tag:noindex
X-PUBLISHED-TTL:PT1H
BEGIN:VTIMEZONE
TZID:UTC
BEGIN:STANDARD
TZOFFSETFROM:+0000
TZOFFSETTO:+0000
TZNAME:UTC
DTSTART:20230101T000000
END:STANDARD
END:VTIMEZONE
BEGIN:VEVENT
DTSTART;TZID=UTC:20240304T093000
DTEND;TZID=UTC:20240304T103000
DTSTAMP:20260422T225849
CREATED:20240213T175246Z
LAST-MODIFIED:20240213T175246Z
UID:10004933-1709544600-1709548200@mentalwellnesscenter.org
SUMMARY:Mindfulness Walk
DESCRIPTION:The Fellowship Club is a recovery day program and learning center for adults living with mental health challenges. It is open weekdays from 9am to 1pm\, free of charge. Those interested in participating in the Fellowship Club’s programs and events must be registered. Vaccination including one booster is required for registration.
URL:https://mentalwellnesscenter.org/event/mindfulness-walk-2-2-2-2/2024-03-04/
LOCATION:Mental Wellness Center – Fellowship Level\, 617 Garden Street\, Santa Barbara\, 93101\, United States
CATEGORIES:Fellowship Club
ATTACH;FMTTYPE=image/png:https://mentalwellnesscenter.org/wp-content/uploads/2023/12/Screenshot-2023-12-29-120309-1.png
END:VEVENT
BEGIN:VEVENT
DTSTART;TZID=UTC:20240304T090000
DTEND;TZID=UTC:20240304T110000
DTSTAMP:20260422T225849
CREATED:20240311T212557Z
LAST-MODIFIED:20240311T212627Z
UID:10005921-1709542800-1709550000@mentalwellnesscenter.org
SUMMARY:Walk-in Hours
DESCRIPTION:*Pending staff availabillity
URL:https://mentalwellnesscenter.org/event/walk-in-hours-4-2-2-2-2/2024-03-04/
CATEGORIES:Community Wellness Program
ATTACH;FMTTYPE=image/png:https://mentalwellnesscenter.org/wp-content/uploads/2023/11/favicon.png
END:VEVENT
BEGIN:VEVENT
DTSTART;TZID=UTC:20240301T163000
DTEND;TZID=UTC:20240301T173000
DTSTAMP:20260422T225849
CREATED:20231228T235251Z
LAST-MODIFIED:20240207T173529Z
UID:10004903-1709310600-1709314200@mentalwellnesscenter.org
SUMMARY:MWC Music Group
DESCRIPTION:Please contact Vicente for more information at (805) 845-3186.
URL:https://mentalwellnesscenter.org/event/mwc-music-group-2-2/2024-03-01/
LOCATION:Mental Wellness Center – Fellowship Level\, 617 Garden Street\, Santa Barbara\, 93101\, United States
CATEGORIES:Community Wellness Program
ATTACH;FMTTYPE=image/jpeg:https://mentalwellnesscenter.org/wp-content/uploads/2023/11/360_F_216493151_TWqanMvoHC6Ru8Yyqk6lFNyv1A2pRAwl.jpg
END:VEVENT
BEGIN:VEVENT
DTSTART;TZID=UTC:20240301T103000
DTEND;TZID=UTC:20240301T113000
DTSTAMP:20260422T225849
CREATED:20231207T062952Z
LAST-MODIFIED:20231228T222322Z
UID:10004626-1709289000-1709292600@mentalwellnesscenter.org
SUMMARY:Movie Friday
DESCRIPTION:The Fellowship Club is a recovery day program and learning center for adults living with mental health challenges. It is open weekdays from 9am to 1pm\, free of charge. Those interested in participating in the Fellowship Club’s programs and events must be registered. Vaccination including one booster is required for registration.
URL:https://mentalwellnesscenter.org/event/movie-friday-2/2024-03-01/
LOCATION:Mental Wellness Center – Fellowship Level\, 617 Garden Street\, Santa Barbara\, 93101\, United States
CATEGORIES:Fellowship Club
END:VEVENT
BEGIN:VEVENT
DTSTART;TZID=UTC:20240301T090000
DTEND;TZID=UTC:20240301T110000
DTSTAMP:20260422T225849
CREATED:20240311T212557Z
LAST-MODIFIED:20240311T212627Z
UID:10005456-1709283600-1709290800@mentalwellnesscenter.org
SUMMARY:Walk-in Hours
DESCRIPTION:*Pending staff availabillity
URL:https://mentalwellnesscenter.org/event/walk-in-hours-4-2-2-2-2/2024-03-01/
CATEGORIES:Community Wellness Program
ATTACH;FMTTYPE=image/png:https://mentalwellnesscenter.org/wp-content/uploads/2023/11/favicon.png
END:VEVENT
BEGIN:VEVENT
DTSTART;TZID=UTC:20240229T180000
DTEND;TZID=UTC:20240229T193000
DTSTAMP:20260422T225849
CREATED:20231229T003422Z
LAST-MODIFIED:20231229T003453Z
UID:10005049-1709229600-1709235000@mentalwellnesscenter.org
SUMMARY:Family Support Group
DESCRIPTION:A support group where family members supporting a loved-one living with a mental health disorder can share their stories\, build coping and communication skills\, and learn from each other. \nThis group meets in person at Mental Wellness Center’s Conference Room A\, located at 617 Garden Street. If you prefer remote instruction\, Family Support Group meets via Zoom on Mondays at 6:00pm. If you are interested in registered for either group\, please contact Julieta Silva at jsilva@mentalwellnesscenter.org.
URL:https://mentalwellnesscenter.org/event/family-support-group-3/2024-02-29/
LOCATION:Mental Wellness Center\, 617 Garden Street\, Santa Barbara\, CA\, 93101\, United States
CATEGORIES:Community Wellness Program,NAMI SB
ATTACH;FMTTYPE=image/jpeg:https://mentalwellnesscenter.org/wp-content/uploads/2023/11/temp-family-support-group.jpg
END:VEVENT
BEGIN:VEVENT
DTSTART;TZID=UTC:20240229T180000
DTEND;TZID=UTC:20240229T193000
DTSTAMP:20260422T225849
CREATED:20231229T003209Z
LAST-MODIFIED:20231229T003240Z
UID:10005035-1709229600-1709235000@mentalwellnesscenter.org
SUMMARY:Stronger Together: Bipolar Disorder and Depression Support Group
DESCRIPTION:This peer-led support group meets in person at the Mental Wellness Center on Thursdays from 6-7:30 PM. There is no cost to attend. This group is intended for anyone in the community who lives with depression or bipolar disorder. The group covers a wide range of topics\, such as coping skills\, as well as discussions of the challenges faced by individuals in the group. \nFor more information\, please contact the group facilitator: Elizabeth Imperato (wrapofsantabarbara@gmail.com).
URL:https://mentalwellnesscenter.org/event/stronger-together-bipolar-disorder-and-depression-support-group-2/2024-02-29/
LOCATION:Mental Wellness Center\, 617 Garden Street\, Santa Barbara\, CA\, 93101\, United States
CATEGORIES:Community Wellness Program
ATTACH;FMTTYPE=image/jpeg:https://mentalwellnesscenter.org/wp-content/uploads/2023/11/temp-stronger-together.jpg
END:VEVENT
BEGIN:VEVENT
DTSTART;TZID=UTC:20240229T103000
DTEND;TZID=UTC:20240229T113000
DTSTAMP:20260422T225849
CREATED:20231229T002929Z
LAST-MODIFIED:20231229T003006Z
UID:10005022-1709202600-1709206200@mentalwellnesscenter.org
SUMMARY:Bingo
DESCRIPTION:The Fellowship Club is a recovery day program and learning center for adults living with mental health challenges. It is open weekdays from 9am to 1pm\, free of charge. Those interested in participating in the Fellowship Club’s programs and events must be registered. Vaccination including one booster is required for registration.
URL:https://mentalwellnesscenter.org/event/bingo-2/2024-02-29/
LOCATION:Mental Wellness Center – Fellowship Level\, 617 Garden Street\, Santa Barbara\, 93101\, United States
CATEGORIES:Fellowship Club
END:VEVENT
BEGIN:VEVENT
DTSTART;TZID=UTC:20240229T093000
DTEND;TZID=UTC:20240229T103000
DTSTAMP:20260422T225849
CREATED:20231229T201837Z
LAST-MODIFIED:20231229T201837Z
UID:10004886-1709199000-1709202600@mentalwellnesscenter.org
SUMMARY:Stretching & Meditation
DESCRIPTION:The Fellowship Club is a recovery day program and learning center for adults living with mental health challenges. It is open weekdays from 9am to 1pm\, free of charge. Those interested in participating in the Fellowship Club’s programs and events must be registered. Vaccination including one booster is required for registration.
URL:https://mentalwellnesscenter.org/event/stretching-meditation-2-2/2024-02-29/
LOCATION:Mental Wellness Center – Fellowship Level\, 617 Garden Street\, Santa Barbara\, 93101\, United States
CATEGORIES:Fellowship Club
ATTACH;FMTTYPE=image/jpeg:https://mentalwellnesscenter.org/wp-content/uploads/2023/12/stretching-and-meditation.jpg
END:VEVENT
BEGIN:VEVENT
DTSTART;TZID=UTC:20240228T183000
DTEND;TZID=UTC:20240228T210000
DTSTAMP:20260422T225849
CREATED:20240207T174531Z
LAST-MODIFIED:20240207T174904Z
UID:10005693-1709145000-1709154000@mentalwellnesscenter.org
SUMMARY:Family-To-Family
DESCRIPTION:FREE 8-session education program for family members of adults living with a mental health disorder. \nPre-Registration and more information can be found on: namisantabarbara.org
URL:https://mentalwellnesscenter.org/event/family-to-family/2024-02-28/
CATEGORIES:Community Wellness Program,NAMI SB
ATTACH;FMTTYPE=image/png:https://mentalwellnesscenter.org/wp-content/uploads/2024/02/Screenshot-2024-02-07-094148.png
END:VEVENT
BEGIN:VEVENT
DTSTART;TZID=UTC:20240228T163000
DTEND;TZID=UTC:20240228T180000
DTSTAMP:20260422T225849
CREATED:20240207T173807Z
LAST-MODIFIED:20240207T173831Z
UID:10005627-1709137800-1709143200@mentalwellnesscenter.org
SUMMARY:Anxiety Workshop for Adults
DESCRIPTION:Join us in a community group setting to learn ways to cope and/or live with anxiety. \nA safe space to work together using The Anxiety Workbook by Arlin Cunic\, M.A.
URL:https://mentalwellnesscenter.org/event/anxiety-workshop-for-adults-2/2024-02-28/
LOCATION:Mental Wellness Center – Conference Room A\, 617 Garden Street\, Santa Barbara\, CA\, 93101\, United States
CATEGORIES:Community Wellness Program
ATTACH;FMTTYPE=image/png:https://mentalwellnesscenter.org/wp-content/uploads/2023/12/Screenshot-2023-12-29-115115.png
END:VEVENT
BEGIN:VEVENT
DTSTART;TZID=UTC:20240228T150000
DTEND;TZID=UTC:20240228T170000
DTSTAMP:20260422T225849
CREATED:20240207T172526Z
LAST-MODIFIED:20240207T173035Z
UID:10005404-1709132400-1709139600@mentalwellnesscenter.org
SUMMARY:Walk-In Hours
DESCRIPTION:*Pending staff availability.
URL:https://mentalwellnesscenter.org/event/walk-in-hours-3-2/2024-02-28/
LOCATION:Mental Wellness Center\, 617 Garden Street\, Santa Barbara\, CA\, 93101\, United States
CATEGORIES:Community Wellness Program
ATTACH;FMTTYPE=image/png:https://mentalwellnesscenter.org/wp-content/uploads/2023/11/favicon.png
END:VEVENT
BEGIN:VEVENT
DTSTART;TZID=UTC:20240228T120000
DTEND;TZID=UTC:20240228T130000
DTSTAMP:20260422T225849
CREATED:20231229T201248Z
LAST-MODIFIED:20231229T201407Z
UID:10005009-1709121600-1709125200@mentalwellnesscenter.org
SUMMARY:Dance Movement
DESCRIPTION:The Fellowship Club is a recovery day program and learning center for adults living with mental health challenges. It is open weekdays from 9am to 1pm\, free of charge. Those interested in participating in the Fellowship Club’s programs and events must be registered. Vaccination including one booster is required for registration.
URL:https://mentalwellnesscenter.org/event/dance-movement-2-2/2024-02-28/
LOCATION:Mental Wellness Center – Fellowship Level\, 617 Garden Street\, Santa Barbara\, 93101\, United States
CATEGORIES:Fellowship Club
ATTACH;FMTTYPE=image/png:https://mentalwellnesscenter.org/wp-content/uploads/2023/12/Screenshot-2023-12-29-121104.png
END:VEVENT
BEGIN:VEVENT
DTSTART;TZID=UTC:20240228T103000
DTEND;TZID=UTC:20240228T113000
DTSTAMP:20260422T225849
CREATED:20231229T002514Z
LAST-MODIFIED:20231229T002552Z
UID:10004996-1709116200-1709119800@mentalwellnesscenter.org
SUMMARY:WRAP: Wellness Recovery Action Plan
DESCRIPTION:The Fellowship Club is a recovery day program and learning center for adults living with mental health challenges. It is open weekdays from 9am to 1pm\, free of charge. Those interested in participating in the Fellowship Club’s programs and events must be registered. Vaccination including one booster is required for registration.
URL:https://mentalwellnesscenter.org/event/wrap-wellness-recovery-action-plan-2-2/2024-02-28/
LOCATION:Mental Wellness Center – Fellowship Level\, 617 Garden Street\, Santa Barbara\, 93101\, United States
CATEGORIES:Fellowship Club
END:VEVENT
BEGIN:VEVENT
DTSTART;TZID=UTC:20240228T093000
DTEND;TZID=UTC:20240228T103000
DTSTAMP:20260422T225849
CREATED:20240213T175246Z
LAST-MODIFIED:20240213T175246Z
UID:10004932-1709112600-1709116200@mentalwellnesscenter.org
SUMMARY:Mindfulness Walk
DESCRIPTION:The Fellowship Club is a recovery day program and learning center for adults living with mental health challenges. It is open weekdays from 9am to 1pm\, free of charge. Those interested in participating in the Fellowship Club’s programs and events must be registered. Vaccination including one booster is required for registration.
URL:https://mentalwellnesscenter.org/event/mindfulness-walk-2-2-2-2/2024-02-28/
LOCATION:Mental Wellness Center – Fellowship Level\, 617 Garden Street\, Santa Barbara\, 93101\, United States
CATEGORIES:Fellowship Club
ATTACH;FMTTYPE=image/png:https://mentalwellnesscenter.org/wp-content/uploads/2023/12/Screenshot-2023-12-29-120309-1.png
END:VEVENT
BEGIN:VEVENT
DTSTART;TZID=UTC:20240227T120000
DTEND;TZID=UTC:20240227T130000
DTSTAMP:20260422T225849
CREATED:20231229T202042Z
LAST-MODIFIED:20231229T202043Z
UID:10004983-1709035200-1709038800@mentalwellnesscenter.org
SUMMARY:Overcoming Challenges
DESCRIPTION:The Fellowship Club is a recovery day program and learning center for adults living with mental health challenges. It is open weekdays from 9am to 1pm\, free of charge. Those interested in participating in the Fellowship Club’s programs and events must be registered. Vaccination including one booster is required for registration.
URL:https://mentalwellnesscenter.org/event/overcoming-challenges-2-2/2024-02-27/
LOCATION:Mental Wellness Center – Fellowship Level\, 617 Garden Street\, Santa Barbara\, 93101\, United States
CATEGORIES:Fellowship Club
ATTACH;FMTTYPE=image/jpeg:https://mentalwellnesscenter.org/wp-content/uploads/2023/12/overcoming-challenges.jpg
END:VEVENT
BEGIN:VEVENT
DTSTART;TZID=UTC:20240226T180000
DTEND;TZID=UTC:20240226T193000
DTSTAMP:20260422T225849
CREATED:20240213T175915Z
LAST-MODIFIED:20240213T175930Z
UID:10004970-1708970400-1708975800@mentalwellnesscenter.org
SUMMARY:Family Support Group - Virtual
DESCRIPTION:A support group where family members supporting a loved-one living with a mental health disorder can share their stories\, build coping and communication skills\, and learn from each other. \nThis group meets via Zoom only. If you prefer in-person attendance\, Family Support Group meets in-person at Mental Wellness Center on Thursdays from 6:00-7:30pm. \nTo receive the zoom link\, please email Julieta Silva\, Family Advocate\, at jsilva@mentalwellnesscenter.org. \n 
URL:https://mentalwellnesscenter.org/event/family-support-group-2-2-2/2024-02-26/
CATEGORIES:Community Wellness Program,NAMI SB,Virtual Groups
ATTACH;FMTTYPE=image/jpeg:https://mentalwellnesscenter.org/wp-content/uploads/2023/11/temp-family-support-group.jpg
END:VEVENT
BEGIN:VEVENT
DTSTART;TZID=UTC:20240226T120000
DTEND;TZID=UTC:20240226T130000
DTSTAMP:20260422T225849
CREATED:20240213T175747Z
LAST-MODIFIED:20240213T180323Z
UID:10004947-1708948800-1708952400@mentalwellnesscenter.org
SUMMARY:Music Room
DESCRIPTION:The Fellowship Club is a recovery day program and learning center for adults living with mental health challenges. It is open weekdays from 9am to 1pm\, free of charge. Those interested in participating in the Fellowship Club’s programs and events must be registered. Vaccination including one booster is required for registration.
URL:https://mentalwellnesscenter.org/event/music-room-2-2/2024-02-26/
LOCATION:Mental Wellness Center – Fellowship Level\, 617 Garden Street\, Santa Barbara\, 93101\, United States
CATEGORIES:Community Wellness Program,Fellowship Club
END:VEVENT
BEGIN:VEVENT
DTSTART;TZID=UTC:20240226T103000
DTEND;TZID=UTC:20240226T113000
DTSTAMP:20260422T225849
CREATED:20240327T215813Z
LAST-MODIFIED:20240327T215926Z
UID:10004958-1708943400-1708947000@mentalwellnesscenter.org
SUMMARY:Building Self Esteem
DESCRIPTION:The Fellowship Club is a recovery day program and learning center for adults living with mental health challenges. It is open weekdays from 9am to 1pm\, free of charge. Those interested in participating in the Fellowship Club’s programs and events must be registered. Vaccination including one booster is required for registration.
URL:https://mentalwellnesscenter.org/event/building-self-esteem-2-2-2/2024-02-26/
LOCATION:Mental Wellness Center – Fellowship Level\, 617 Garden Street\, Santa Barbara\, 93101\, United States
CATEGORIES:Community Wellness Program,Fellowship Club
END:VEVENT
BEGIN:VEVENT
DTSTART;TZID=UTC:20240226T093000
DTEND;TZID=UTC:20240226T103000
DTSTAMP:20260422T225849
CREATED:20240213T175246Z
LAST-MODIFIED:20240213T175246Z
UID:10004931-1708939800-1708943400@mentalwellnesscenter.org
SUMMARY:Mindfulness Walk
DESCRIPTION:The Fellowship Club is a recovery day program and learning center for adults living with mental health challenges. It is open weekdays from 9am to 1pm\, free of charge. Those interested in participating in the Fellowship Club’s programs and events must be registered. Vaccination including one booster is required for registration.
URL:https://mentalwellnesscenter.org/event/mindfulness-walk-2-2-2-2/2024-02-26/
LOCATION:Mental Wellness Center – Fellowship Level\, 617 Garden Street\, Santa Barbara\, 93101\, United States
CATEGORIES:Fellowship Club
ATTACH;FMTTYPE=image/png:https://mentalwellnesscenter.org/wp-content/uploads/2023/12/Screenshot-2023-12-29-120309-1.png
END:VEVENT
BEGIN:VEVENT
DTSTART;TZID=UTC:20240223T163000
DTEND;TZID=UTC:20240223T173000
DTSTAMP:20260422T225849
CREATED:20231228T235251Z
LAST-MODIFIED:20240207T173529Z
UID:10005623-1708705800-1708709400@mentalwellnesscenter.org
SUMMARY:MWC Music Group
DESCRIPTION:Please contact Vicente for more information at (805) 845-3186.
URL:https://mentalwellnesscenter.org/event/mwc-music-group-2-2/2024-02-23/
LOCATION:Mental Wellness Center – Fellowship Level\, 617 Garden Street\, Santa Barbara\, 93101\, United States
CATEGORIES:Community Wellness Program
ATTACH;FMTTYPE=image/jpeg:https://mentalwellnesscenter.org/wp-content/uploads/2023/11/360_F_216493151_TWqanMvoHC6Ru8Yyqk6lFNyv1A2pRAwl.jpg
END:VEVENT
BEGIN:VEVENT
DTSTART;TZID=UTC:20240223T103000
DTEND;TZID=UTC:20240223T113000
DTSTAMP:20260422T225849
CREATED:20231207T062952Z
LAST-MODIFIED:20231228T222322Z
UID:10004625-1708684200-1708687800@mentalwellnesscenter.org
SUMMARY:Movie Friday
DESCRIPTION:The Fellowship Club is a recovery day program and learning center for adults living with mental health challenges. It is open weekdays from 9am to 1pm\, free of charge. Those interested in participating in the Fellowship Club’s programs and events must be registered. Vaccination including one booster is required for registration.
URL:https://mentalwellnesscenter.org/event/movie-friday-2/2024-02-23/
LOCATION:Mental Wellness Center – Fellowship Level\, 617 Garden Street\, Santa Barbara\, 93101\, United States
CATEGORIES:Fellowship Club
END:VEVENT
BEGIN:VEVENT
DTSTART;TZID=UTC:20240223T090000
DTEND;TZID=UTC:20240223T110000
DTSTAMP:20260422T225849
CREATED:20240213T175145Z
LAST-MODIFIED:20240213T175146Z
UID:10005446-1708678800-1708686000@mentalwellnesscenter.org
SUMMARY:Walk-in Hours
DESCRIPTION:*Pending staff availabillity
URL:https://mentalwellnesscenter.org/event/walk-in-hours-4-2/2024-02-23/
CATEGORIES:Community Wellness Program
ATTACH;FMTTYPE=image/png:https://mentalwellnesscenter.org/wp-content/uploads/2023/11/favicon.png
END:VEVENT
BEGIN:VEVENT
DTSTART;TZID=UTC:20240222T190000
DTEND;TZID=UTC:20240222T203000
DTSTAMP:20260422T225849
CREATED:20240207T173638Z
LAST-MODIFIED:20240207T173639Z
UID:10004325-1708628400-1708633800@mentalwellnesscenter.org
SUMMARY:NAMI Speaker Meeting
DESCRIPTION:
URL:https://mentalwellnesscenter.org/event/nami-speaker-meeting-2/2024-02-22/
LOCATION:Mental Wellness Center – Fellowship Level\, 617 Garden Street\, Santa Barbara\, 93101\, United States
CATEGORIES:Community Wellness Program,NAMI SB
ATTACH;FMTTYPE=image/png:https://mentalwellnesscenter.org/wp-content/uploads/2023/10/tile-public-policy-advocacy.png
END:VEVENT
BEGIN:VEVENT
DTSTART;TZID=UTC:20240222T180000
DTEND;TZID=UTC:20240222T193000
DTSTAMP:20260422T225849
CREATED:20231229T003422Z
LAST-MODIFIED:20231229T003453Z
UID:10005048-1708624800-1708630200@mentalwellnesscenter.org
SUMMARY:Family Support Group
DESCRIPTION:A support group where family members supporting a loved-one living with a mental health disorder can share their stories\, build coping and communication skills\, and learn from each other. \nThis group meets in person at Mental Wellness Center’s Conference Room A\, located at 617 Garden Street. If you prefer remote instruction\, Family Support Group meets via Zoom on Mondays at 6:00pm. If you are interested in registered for either group\, please contact Julieta Silva at jsilva@mentalwellnesscenter.org.
URL:https://mentalwellnesscenter.org/event/family-support-group-3/2024-02-22/
LOCATION:Mental Wellness Center\, 617 Garden Street\, Santa Barbara\, CA\, 93101\, United States
CATEGORIES:Community Wellness Program,NAMI SB
ATTACH;FMTTYPE=image/jpeg:https://mentalwellnesscenter.org/wp-content/uploads/2023/11/temp-family-support-group.jpg
END:VEVENT
BEGIN:VEVENT
DTSTART;TZID=UTC:20240222T180000
DTEND;TZID=UTC:20240222T193000
DTSTAMP:20260422T225849
CREATED:20231229T003209Z
LAST-MODIFIED:20231229T003240Z
UID:10005034-1708624800-1708630200@mentalwellnesscenter.org
SUMMARY:Stronger Together: Bipolar Disorder and Depression Support Group
DESCRIPTION:This peer-led support group meets in person at the Mental Wellness Center on Thursdays from 6-7:30 PM. There is no cost to attend. This group is intended for anyone in the community who lives with depression or bipolar disorder. The group covers a wide range of topics\, such as coping skills\, as well as discussions of the challenges faced by individuals in the group. \nFor more information\, please contact the group facilitator: Elizabeth Imperato (wrapofsantabarbara@gmail.com).
URL:https://mentalwellnesscenter.org/event/stronger-together-bipolar-disorder-and-depression-support-group-2/2024-02-22/
LOCATION:Mental Wellness Center\, 617 Garden Street\, Santa Barbara\, CA\, 93101\, United States
CATEGORIES:Community Wellness Program
ATTACH;FMTTYPE=image/jpeg:https://mentalwellnesscenter.org/wp-content/uploads/2023/11/temp-stronger-together.jpg
END:VEVENT
BEGIN:VEVENT
DTSTART;TZID=UTC:20240222T110000
DTEND;TZID=UTC:20240222T130000
DTSTAMP:20260422T225849
CREATED:20240207T172637Z
LAST-MODIFIED:20240207T172722Z
UID:10005142-1708599600-1708606800@mentalwellnesscenter.org
SUMMARY:Walk-In Hours
DESCRIPTION:*Pending staff availability.
URL:https://mentalwellnesscenter.org/event/walk-in-hours-2-2-2/2024-02-22/
LOCATION:Mental Wellness Center\, 617 Garden Street\, Santa Barbara\, CA\, 93101\, United States
CATEGORIES:Community Wellness Program
ATTACH;FMTTYPE=image/png:https://mentalwellnesscenter.org/wp-content/uploads/2023/11/favicon.png
END:VEVENT
BEGIN:VEVENT
DTSTART;TZID=UTC:20240222T103000
DTEND;TZID=UTC:20240222T113000
DTSTAMP:20260422T225849
CREATED:20231229T002929Z
LAST-MODIFIED:20231229T003006Z
UID:10005021-1708597800-1708601400@mentalwellnesscenter.org
SUMMARY:Bingo
DESCRIPTION:The Fellowship Club is a recovery day program and learning center for adults living with mental health challenges. It is open weekdays from 9am to 1pm\, free of charge. Those interested in participating in the Fellowship Club’s programs and events must be registered. Vaccination including one booster is required for registration.
URL:https://mentalwellnesscenter.org/event/bingo-2/2024-02-22/
LOCATION:Mental Wellness Center – Fellowship Level\, 617 Garden Street\, Santa Barbara\, 93101\, United States
CATEGORIES:Fellowship Club
END:VEVENT
BEGIN:VEVENT
DTSTART;TZID=UTC:20240222T093000
DTEND;TZID=UTC:20240222T103000
DTSTAMP:20260422T225849
CREATED:20231229T201837Z
LAST-MODIFIED:20231229T201837Z
UID:10004885-1708594200-1708597800@mentalwellnesscenter.org
SUMMARY:Stretching & Meditation
DESCRIPTION:The Fellowship Club is a recovery day program and learning center for adults living with mental health challenges. It is open weekdays from 9am to 1pm\, free of charge. Those interested in participating in the Fellowship Club’s programs and events must be registered. Vaccination including one booster is required for registration.
URL:https://mentalwellnesscenter.org/event/stretching-meditation-2-2/2024-02-22/
LOCATION:Mental Wellness Center – Fellowship Level\, 617 Garden Street\, Santa Barbara\, 93101\, United States
CATEGORIES:Fellowship Club
ATTACH;FMTTYPE=image/jpeg:https://mentalwellnesscenter.org/wp-content/uploads/2023/12/stretching-and-meditation.jpg
END:VEVENT
BEGIN:VEVENT
DTSTART;TZID=UTC:20240221T183000
DTEND;TZID=UTC:20240221T210000
DTSTAMP:20260422T225849
CREATED:20240207T174531Z
LAST-MODIFIED:20240207T174904Z
UID:10005692-1708540200-1708549200@mentalwellnesscenter.org
SUMMARY:Family-To-Family
DESCRIPTION:FREE 8-session education program for family members of adults living with a mental health disorder. \nPre-Registration and more information can be found on: namisantabarbara.org
URL:https://mentalwellnesscenter.org/event/family-to-family/2024-02-21/
CATEGORIES:Community Wellness Program,NAMI SB
ATTACH;FMTTYPE=image/png:https://mentalwellnesscenter.org/wp-content/uploads/2024/02/Screenshot-2024-02-07-094148.png
END:VEVENT
END:VCALENDAR