BEGIN:VCALENDAR
VERSION:2.0
PRODID:-//Mental Wellness Center - ECPv6.15.20//NONSGML v1.0//EN
CALSCALE:GREGORIAN
METHOD:PUBLISH
X-WR-CALNAME:Mental Wellness Center
X-ORIGINAL-URL:https://mentalwellnesscenter.org
X-WR-CALDESC:Events for Mental Wellness Center
REFRESH-INTERVAL;VALUE=DURATION:PT1H
X-Robots-Tag:noindex
X-PUBLISHED-TTL:PT1H
BEGIN:VTIMEZONE
TZID:UTC
BEGIN:STANDARD
TZOFFSETFROM:+0000
TZOFFSETTO:+0000
TZNAME:UTC
DTSTART:20230101T000000
END:STANDARD
END:VTIMEZONE
BEGIN:VEVENT
DTSTART;TZID=UTC:20240315T090000
DTEND;TZID=UTC:20240315T110000
DTSTAMP:20260422T144729
CREATED:20240311T212557Z
LAST-MODIFIED:20240311T212627Z
UID:10005924-1710493200-1710500400@mentalwellnesscenter.org
SUMMARY:Walk-in Hours
DESCRIPTION:*Pending staff availabillity
URL:https://mentalwellnesscenter.org/event/walk-in-hours-4-2-2-2-2/2024-03-15/
LOCATION:CA
CATEGORIES:Community Wellness Program
ATTACH;FMTTYPE=image/png:https://mentalwellnesscenter.org/wp-content/uploads/2023/11/favicon.png
END:VEVENT
BEGIN:VEVENT
DTSTART;TZID=UTC:20240314T180000
DTEND;TZID=UTC:20240314T193000
DTSTAMP:20260422T144729
CREATED:20231229T003422Z
LAST-MODIFIED:20231229T003453Z
UID:10005051-1710439200-1710444600@mentalwellnesscenter.org
SUMMARY:Family Support Group
DESCRIPTION:A support group where family members supporting a loved-one living with a mental health disorder can share their stories\, build coping and communication skills\, and learn from each other. \nThis group meets in person at Mental Wellness Center’s Conference Room A\, located at 617 Garden Street. If you prefer remote instruction\, Family Support Group meets via Zoom on Mondays at 6:00pm. If you are interested in registered for either group\, please contact Julieta Silva at jsilva@mentalwellnesscenter.org.
URL:https://mentalwellnesscenter.org/event/family-support-group-3/2024-03-14/
LOCATION:Mental Wellness Center\, 617 Garden Street\, Santa Barbara\, CA\, 93101\, United States
CATEGORIES:Community Wellness Program,NAMI SB
ATTACH;FMTTYPE=image/jpeg:https://mentalwellnesscenter.org/wp-content/uploads/2023/11/temp-family-support-group.jpg
END:VEVENT
BEGIN:VEVENT
DTSTART;TZID=UTC:20240314T180000
DTEND;TZID=UTC:20240314T193000
DTSTAMP:20260422T144729
CREATED:20231229T003209Z
LAST-MODIFIED:20231229T003240Z
UID:10005037-1710439200-1710444600@mentalwellnesscenter.org
SUMMARY:Stronger Together: Bipolar Disorder and Depression Support Group
DESCRIPTION:This peer-led support group meets in person at the Mental Wellness Center on Thursdays from 6-7:30 PM. There is no cost to attend. This group is intended for anyone in the community who lives with depression or bipolar disorder. The group covers a wide range of topics\, such as coping skills\, as well as discussions of the challenges faced by individuals in the group. \nFor more information\, please contact the group facilitator: Elizabeth Imperato (wrapofsantabarbara@gmail.com).
URL:https://mentalwellnesscenter.org/event/stronger-together-bipolar-disorder-and-depression-support-group-2/2024-03-14/
LOCATION:Mental Wellness Center\, 617 Garden Street\, Santa Barbara\, CA\, 93101\, United States
CATEGORIES:Community Wellness Program
ATTACH;FMTTYPE=image/jpeg:https://mentalwellnesscenter.org/wp-content/uploads/2023/11/temp-stronger-together.jpg
END:VEVENT
BEGIN:VEVENT
DTSTART;TZID=UTC:20240314T103000
DTEND;TZID=UTC:20240314T113000
DTSTAMP:20260422T144729
CREATED:20231229T002929Z
LAST-MODIFIED:20231229T003006Z
UID:10005024-1710412200-1710415800@mentalwellnesscenter.org
SUMMARY:Bingo
DESCRIPTION:The Fellowship Club is a recovery day program and learning center for adults living with mental health challenges. It is open weekdays from 9am to 1pm\, free of charge. Those interested in participating in the Fellowship Club’s programs and events must be registered. Vaccination including one booster is required for registration.
URL:https://mentalwellnesscenter.org/event/bingo-2/2024-03-14/
LOCATION:Mental Wellness Center – Fellowship Level\, 617 Garden Street\, Santa Barbara\, 93101\, United States
CATEGORIES:Fellowship Club
END:VEVENT
BEGIN:VEVENT
DTSTART;TZID=UTC:20240314T093000
DTEND;TZID=UTC:20240314T103000
DTSTAMP:20260422T144729
CREATED:20231229T201837Z
LAST-MODIFIED:20231229T201837Z
UID:10004888-1710408600-1710412200@mentalwellnesscenter.org
SUMMARY:Stretching & Meditation
DESCRIPTION:The Fellowship Club is a recovery day program and learning center for adults living with mental health challenges. It is open weekdays from 9am to 1pm\, free of charge. Those interested in participating in the Fellowship Club’s programs and events must be registered. Vaccination including one booster is required for registration.
URL:https://mentalwellnesscenter.org/event/stretching-meditation-2-2/2024-03-14/
LOCATION:Mental Wellness Center – Fellowship Level\, 617 Garden Street\, Santa Barbara\, 93101\, United States
CATEGORIES:Fellowship Club
ATTACH;FMTTYPE=image/jpeg:https://mentalwellnesscenter.org/wp-content/uploads/2023/12/stretching-and-meditation.jpg
END:VEVENT
BEGIN:VEVENT
DTSTART;TZID=UTC:20240313T183000
DTEND;TZID=UTC:20240313T210000
DTSTAMP:20260422T144729
CREATED:20240207T174531Z
LAST-MODIFIED:20240207T174904Z
UID:10005695-1710354600-1710363600@mentalwellnesscenter.org
SUMMARY:Family-To-Family
DESCRIPTION:FREE 8-session education program for family members of adults living with a mental health disorder. \nPre-Registration and more information can be found on: namisantabarbara.org
URL:https://mentalwellnesscenter.org/event/family-to-family/2024-03-13/
LOCATION:CA
CATEGORIES:Community Wellness Program,NAMI SB
ATTACH;FMTTYPE=image/png:https://mentalwellnesscenter.org/wp-content/uploads/2024/02/Screenshot-2024-02-07-094148.png
END:VEVENT
BEGIN:VEVENT
DTSTART;TZID=UTC:20240313T163000
DTEND;TZID=UTC:20240313T180000
DTSTAMP:20260422T144729
CREATED:20240207T173807Z
LAST-MODIFIED:20240207T173831Z
UID:10005629-1710347400-1710352800@mentalwellnesscenter.org
SUMMARY:Anxiety Workshop for Adults
DESCRIPTION:Join us in a community group setting to learn ways to cope and/or live with anxiety. \nA safe space to work together using The Anxiety Workbook by Arlin Cunic\, M.A.
URL:https://mentalwellnesscenter.org/event/anxiety-workshop-for-adults-2/2024-03-13/
LOCATION:Mental Wellness Center – Conference Room A\, 617 Garden Street\, Santa Barbara\, CA\, 93101\, United States
CATEGORIES:Community Wellness Program
ATTACH;FMTTYPE=image/png:https://mentalwellnesscenter.org/wp-content/uploads/2023/12/Screenshot-2023-12-29-115115.png
END:VEVENT
BEGIN:VEVENT
DTSTART;TZID=UTC:20240313T150000
DTEND;TZID=UTC:20240313T170000
DTSTAMP:20260422T144729
CREATED:20240207T172526Z
LAST-MODIFIED:20240207T173035Z
UID:10005406-1710342000-1710349200@mentalwellnesscenter.org
SUMMARY:Walk-In Hours
DESCRIPTION:*Pending staff availability.
URL:https://mentalwellnesscenter.org/event/walk-in-hours-3-2/2024-03-13/
LOCATION:Mental Wellness Center\, 617 Garden Street\, Santa Barbara\, CA\, 93101\, United States
CATEGORIES:Community Wellness Program
ATTACH;FMTTYPE=image/png:https://mentalwellnesscenter.org/wp-content/uploads/2023/11/favicon.png
END:VEVENT
BEGIN:VEVENT
DTSTART;TZID=UTC:20240313T120000
DTEND;TZID=UTC:20240313T130000
DTSTAMP:20260422T144729
CREATED:20231229T201248Z
LAST-MODIFIED:20231229T201407Z
UID:10005011-1710331200-1710334800@mentalwellnesscenter.org
SUMMARY:Dance Movement
DESCRIPTION:The Fellowship Club is a recovery day program and learning center for adults living with mental health challenges. It is open weekdays from 9am to 1pm\, free of charge. Those interested in participating in the Fellowship Club’s programs and events must be registered. Vaccination including one booster is required for registration.
URL:https://mentalwellnesscenter.org/event/dance-movement-2-2/2024-03-13/
LOCATION:Mental Wellness Center – Fellowship Level\, 617 Garden Street\, Santa Barbara\, 93101\, United States
CATEGORIES:Fellowship Club
ATTACH;FMTTYPE=image/png:https://mentalwellnesscenter.org/wp-content/uploads/2023/12/Screenshot-2023-12-29-121104.png
END:VEVENT
BEGIN:VEVENT
DTSTART;TZID=UTC:20240313T103000
DTEND;TZID=UTC:20240313T113000
DTSTAMP:20260422T144729
CREATED:20231229T002514Z
LAST-MODIFIED:20231229T002552Z
UID:10004998-1710325800-1710329400@mentalwellnesscenter.org
SUMMARY:WRAP: Wellness Recovery Action Plan
DESCRIPTION:The Fellowship Club is a recovery day program and learning center for adults living with mental health challenges. It is open weekdays from 9am to 1pm\, free of charge. Those interested in participating in the Fellowship Club’s programs and events must be registered. Vaccination including one booster is required for registration.
URL:https://mentalwellnesscenter.org/event/wrap-wellness-recovery-action-plan-2-2/2024-03-13/
LOCATION:Mental Wellness Center – Fellowship Level\, 617 Garden Street\, Santa Barbara\, 93101\, United States
CATEGORIES:Fellowship Club
END:VEVENT
BEGIN:VEVENT
DTSTART;TZID=UTC:20240313T093000
DTEND;TZID=UTC:20240313T103000
DTSTAMP:20260422T144729
CREATED:20240213T175246Z
LAST-MODIFIED:20240213T175246Z
UID:10004936-1710322200-1710325800@mentalwellnesscenter.org
SUMMARY:Mindfulness Walk
DESCRIPTION:The Fellowship Club is a recovery day program and learning center for adults living with mental health challenges. It is open weekdays from 9am to 1pm\, free of charge. Those interested in participating in the Fellowship Club’s programs and events must be registered. Vaccination including one booster is required for registration.
URL:https://mentalwellnesscenter.org/event/mindfulness-walk-2-2-2-2/2024-03-13/
LOCATION:Mental Wellness Center – Fellowship Level\, 617 Garden Street\, Santa Barbara\, 93101\, United States
CATEGORIES:Fellowship Club
ATTACH;FMTTYPE=image/png:https://mentalwellnesscenter.org/wp-content/uploads/2023/12/Screenshot-2023-12-29-120309-1.png
END:VEVENT
BEGIN:VEVENT
DTSTART;TZID=UTC:20240312T120000
DTEND;TZID=UTC:20240312T130000
DTSTAMP:20260422T144729
CREATED:20231229T202042Z
LAST-MODIFIED:20231229T202043Z
UID:10004985-1710244800-1710248400@mentalwellnesscenter.org
SUMMARY:Overcoming Challenges
DESCRIPTION:The Fellowship Club is a recovery day program and learning center for adults living with mental health challenges. It is open weekdays from 9am to 1pm\, free of charge. Those interested in participating in the Fellowship Club’s programs and events must be registered. Vaccination including one booster is required for registration.
URL:https://mentalwellnesscenter.org/event/overcoming-challenges-2-2/2024-03-12/
LOCATION:Mental Wellness Center – Fellowship Level\, 617 Garden Street\, Santa Barbara\, 93101\, United States
CATEGORIES:Fellowship Club
ATTACH;FMTTYPE=image/jpeg:https://mentalwellnesscenter.org/wp-content/uploads/2023/12/overcoming-challenges.jpg
END:VEVENT
BEGIN:VEVENT
DTSTART;TZID=UTC:20240311T180000
DTEND;TZID=UTC:20240311T193000
DTSTAMP:20260422T144729
CREATED:20240213T175915Z
LAST-MODIFIED:20240213T175930Z
UID:10004972-1710180000-1710185400@mentalwellnesscenter.org
SUMMARY:Family Support Group - Virtual
DESCRIPTION:A support group where family members supporting a loved-one living with a mental health disorder can share their stories\, build coping and communication skills\, and learn from each other. \nThis group meets via Zoom only. If you prefer in-person attendance\, Family Support Group meets in-person at Mental Wellness Center on Thursdays from 6:00-7:30pm. \nTo receive the zoom link\, please email Julieta Silva\, Family Advocate\, at jsilva@mentalwellnesscenter.org. \n 
URL:https://mentalwellnesscenter.org/event/family-support-group-2-2-2/2024-03-11/
LOCATION:CA
CATEGORIES:Community Wellness Program,NAMI SB,Virtual Groups
ATTACH;FMTTYPE=image/jpeg:https://mentalwellnesscenter.org/wp-content/uploads/2023/11/temp-family-support-group.jpg
END:VEVENT
BEGIN:VEVENT
DTSTART;TZID=UTC:20240311T173000
DTEND;TZID=UTC:20240311T193000
DTSTAMP:20260422T144729
CREATED:20240226T195128Z
LAST-MODIFIED:20240226T202849Z
UID:10005742-1710178200-1710185400@mentalwellnesscenter.org
SUMMARY:El Grupo Colibrí
DESCRIPTION:Do you or someone you care about suffer from a mental health disorder? Register for our free support group and learn how to support those you love. \nGroup is held in Spanish at Mental Wellness Center. Call Vicente Garcia for more information: 805-450-0846. Registration is completely free.
URL:https://mentalwellnesscenter.org/event/el-grupo-colibri-2-2-2/2024-03-11/
LOCATION:Mental Wellness Center\, 617 Garden Street\, Santa Barbara\, CA\, 93101\, United States
CATEGORIES:Community Wellness Program,Grupos en Español
ATTACH;FMTTYPE=image/jpeg:https://mentalwellnesscenter.org/wp-content/uploads/2023/11/Grupo-Colibri-2.jpg
END:VEVENT
BEGIN:VEVENT
DTSTART;TZID=UTC:20240311T120000
DTEND;TZID=UTC:20240311T130000
DTSTAMP:20260422T144729
CREATED:20240213T175747Z
LAST-MODIFIED:20240213T180323Z
UID:10004949-1710158400-1710162000@mentalwellnesscenter.org
SUMMARY:Music Room
DESCRIPTION:The Fellowship Club is a recovery day program and learning center for adults living with mental health challenges. It is open weekdays from 9am to 1pm\, free of charge. Those interested in participating in the Fellowship Club’s programs and events must be registered. Vaccination including one booster is required for registration.
URL:https://mentalwellnesscenter.org/event/music-room-2-2/2024-03-11/
LOCATION:Mental Wellness Center – Fellowship Level\, 617 Garden Street\, Santa Barbara\, 93101\, United States
CATEGORIES:Community Wellness Program,Fellowship Club
END:VEVENT
BEGIN:VEVENT
DTSTART;TZID=UTC:20240311T103000
DTEND;TZID=UTC:20240311T113000
DTSTAMP:20260422T144729
CREATED:20240327T215813Z
LAST-MODIFIED:20240327T215926Z
UID:10005997-1710153000-1710156600@mentalwellnesscenter.org
SUMMARY:Building Self Esteem
DESCRIPTION:The Fellowship Club is a recovery day program and learning center for adults living with mental health challenges. It is open weekdays from 9am to 1pm\, free of charge. Those interested in participating in the Fellowship Club’s programs and events must be registered. Vaccination including one booster is required for registration.
URL:https://mentalwellnesscenter.org/event/building-self-esteem-2-2-2/2024-03-11/
LOCATION:Mental Wellness Center – Fellowship Level\, 617 Garden Street\, Santa Barbara\, 93101\, United States
CATEGORIES:Community Wellness Program,Fellowship Club
END:VEVENT
BEGIN:VEVENT
DTSTART;TZID=UTC:20240311T093000
DTEND;TZID=UTC:20240311T103000
DTSTAMP:20260422T144729
CREATED:20240213T175246Z
LAST-MODIFIED:20240213T175246Z
UID:10004935-1710149400-1710153000@mentalwellnesscenter.org
SUMMARY:Mindfulness Walk
DESCRIPTION:The Fellowship Club is a recovery day program and learning center for adults living with mental health challenges. It is open weekdays from 9am to 1pm\, free of charge. Those interested in participating in the Fellowship Club’s programs and events must be registered. Vaccination including one booster is required for registration.
URL:https://mentalwellnesscenter.org/event/mindfulness-walk-2-2-2-2/2024-03-11/
LOCATION:Mental Wellness Center – Fellowship Level\, 617 Garden Street\, Santa Barbara\, 93101\, United States
CATEGORIES:Fellowship Club
ATTACH;FMTTYPE=image/png:https://mentalwellnesscenter.org/wp-content/uploads/2023/12/Screenshot-2023-12-29-120309-1.png
END:VEVENT
BEGIN:VEVENT
DTSTART;TZID=UTC:20240311T090000
DTEND;TZID=UTC:20240311T110000
DTSTAMP:20260422T144729
CREATED:20240311T212557Z
LAST-MODIFIED:20240311T212627Z
UID:10005923-1710147600-1710154800@mentalwellnesscenter.org
SUMMARY:Walk-in Hours
DESCRIPTION:*Pending staff availabillity
URL:https://mentalwellnesscenter.org/event/walk-in-hours-4-2-2-2-2/2024-03-11/
LOCATION:CA
CATEGORIES:Community Wellness Program
ATTACH;FMTTYPE=image/png:https://mentalwellnesscenter.org/wp-content/uploads/2023/11/favicon.png
END:VEVENT
BEGIN:VEVENT
DTSTART;TZID=UTC:20240308T120000
DTEND;TZID=UTC:20240308T133000
DTSTAMP:20260422T144729
CREATED:20240215T225818Z
LAST-MODIFIED:20240215T225818Z
UID:10005731-1709899200-1709904600@mentalwellnesscenter.org
SUMMARY:NAMI Public Policy Meeting
DESCRIPTION:Free Lunch will be served.
URL:https://mentalwellnesscenter.org/event/nami-public-policy-meeting/2024-03-08/
LOCATION:Mental Wellness Center – Conference Room A\, 617 Garden Street\, Santa Barbara\, CA\, 93101\, United States
CATEGORIES:Community Wellness Program,NAMI SB
ATTACH;FMTTYPE=image/png:https://mentalwellnesscenter.org/wp-content/uploads/2024/02/Screenshot-2024-02-15-145519.png
END:VEVENT
BEGIN:VEVENT
DTSTART;TZID=UTC:20240308T103000
DTEND;TZID=UTC:20240308T113000
DTSTAMP:20260422T144729
CREATED:20231207T062952Z
LAST-MODIFIED:20231228T222322Z
UID:10004627-1709893800-1709897400@mentalwellnesscenter.org
SUMMARY:Movie Friday
DESCRIPTION:The Fellowship Club is a recovery day program and learning center for adults living with mental health challenges. It is open weekdays from 9am to 1pm\, free of charge. Those interested in participating in the Fellowship Club’s programs and events must be registered. Vaccination including one booster is required for registration.
URL:https://mentalwellnesscenter.org/event/movie-friday-2/2024-03-08/
LOCATION:Mental Wellness Center – Fellowship Level\, 617 Garden Street\, Santa Barbara\, 93101\, United States
CATEGORIES:Fellowship Club
END:VEVENT
BEGIN:VEVENT
DTSTART;TZID=UTC:20240308T090000
DTEND;TZID=UTC:20240308T110000
DTSTAMP:20260422T144729
CREATED:20240311T212557Z
LAST-MODIFIED:20240311T212627Z
UID:10005922-1709888400-1709895600@mentalwellnesscenter.org
SUMMARY:Walk-in Hours
DESCRIPTION:*Pending staff availabillity
URL:https://mentalwellnesscenter.org/event/walk-in-hours-4-2-2-2-2/2024-03-08/
LOCATION:CA
CATEGORIES:Community Wellness Program
ATTACH;FMTTYPE=image/png:https://mentalwellnesscenter.org/wp-content/uploads/2023/11/favicon.png
END:VEVENT
BEGIN:VEVENT
DTSTART;TZID=UTC:20240307T180000
DTEND;TZID=UTC:20240307T193000
DTSTAMP:20260422T144729
CREATED:20231229T003422Z
LAST-MODIFIED:20231229T003453Z
UID:10005050-1709834400-1709839800@mentalwellnesscenter.org
SUMMARY:Family Support Group
DESCRIPTION:A support group where family members supporting a loved-one living with a mental health disorder can share their stories\, build coping and communication skills\, and learn from each other. \nThis group meets in person at Mental Wellness Center’s Conference Room A\, located at 617 Garden Street. If you prefer remote instruction\, Family Support Group meets via Zoom on Mondays at 6:00pm. If you are interested in registered for either group\, please contact Julieta Silva at jsilva@mentalwellnesscenter.org.
URL:https://mentalwellnesscenter.org/event/family-support-group-3/2024-03-07/
LOCATION:Mental Wellness Center\, 617 Garden Street\, Santa Barbara\, CA\, 93101\, United States
CATEGORIES:Community Wellness Program,NAMI SB
ATTACH;FMTTYPE=image/jpeg:https://mentalwellnesscenter.org/wp-content/uploads/2023/11/temp-family-support-group.jpg
END:VEVENT
BEGIN:VEVENT
DTSTART;TZID=UTC:20240307T180000
DTEND;TZID=UTC:20240307T193000
DTSTAMP:20260422T144729
CREATED:20231229T003209Z
LAST-MODIFIED:20231229T003240Z
UID:10005036-1709834400-1709839800@mentalwellnesscenter.org
SUMMARY:Stronger Together: Bipolar Disorder and Depression Support Group
DESCRIPTION:This peer-led support group meets in person at the Mental Wellness Center on Thursdays from 6-7:30 PM. There is no cost to attend. This group is intended for anyone in the community who lives with depression or bipolar disorder. The group covers a wide range of topics\, such as coping skills\, as well as discussions of the challenges faced by individuals in the group. \nFor more information\, please contact the group facilitator: Elizabeth Imperato (wrapofsantabarbara@gmail.com).
URL:https://mentalwellnesscenter.org/event/stronger-together-bipolar-disorder-and-depression-support-group-2/2024-03-07/
LOCATION:Mental Wellness Center\, 617 Garden Street\, Santa Barbara\, CA\, 93101\, United States
CATEGORIES:Community Wellness Program
ATTACH;FMTTYPE=image/jpeg:https://mentalwellnesscenter.org/wp-content/uploads/2023/11/temp-stronger-together.jpg
END:VEVENT
BEGIN:VEVENT
DTSTART;TZID=UTC:20240307T103000
DTEND;TZID=UTC:20240307T113000
DTSTAMP:20260422T144729
CREATED:20231229T002929Z
LAST-MODIFIED:20231229T003006Z
UID:10005023-1709807400-1709811000@mentalwellnesscenter.org
SUMMARY:Bingo
DESCRIPTION:The Fellowship Club is a recovery day program and learning center for adults living with mental health challenges. It is open weekdays from 9am to 1pm\, free of charge. Those interested in participating in the Fellowship Club’s programs and events must be registered. Vaccination including one booster is required for registration.
URL:https://mentalwellnesscenter.org/event/bingo-2/2024-03-07/
LOCATION:Mental Wellness Center – Fellowship Level\, 617 Garden Street\, Santa Barbara\, 93101\, United States
CATEGORIES:Fellowship Club
END:VEVENT
BEGIN:VEVENT
DTSTART;TZID=UTC:20240307T093000
DTEND;TZID=UTC:20240307T103000
DTSTAMP:20260422T144729
CREATED:20231229T201837Z
LAST-MODIFIED:20231229T201837Z
UID:10004887-1709803800-1709807400@mentalwellnesscenter.org
SUMMARY:Stretching & Meditation
DESCRIPTION:The Fellowship Club is a recovery day program and learning center for adults living with mental health challenges. It is open weekdays from 9am to 1pm\, free of charge. Those interested in participating in the Fellowship Club’s programs and events must be registered. Vaccination including one booster is required for registration.
URL:https://mentalwellnesscenter.org/event/stretching-meditation-2-2/2024-03-07/
LOCATION:Mental Wellness Center – Fellowship Level\, 617 Garden Street\, Santa Barbara\, 93101\, United States
CATEGORIES:Fellowship Club
ATTACH;FMTTYPE=image/jpeg:https://mentalwellnesscenter.org/wp-content/uploads/2023/12/stretching-and-meditation.jpg
END:VEVENT
BEGIN:VEVENT
DTSTART;TZID=UTC:20240306T183000
DTEND;TZID=UTC:20240306T210000
DTSTAMP:20260422T144729
CREATED:20240207T174531Z
LAST-MODIFIED:20240207T174904Z
UID:10005694-1709749800-1709758800@mentalwellnesscenter.org
SUMMARY:Family-To-Family
DESCRIPTION:FREE 8-session education program for family members of adults living with a mental health disorder. \nPre-Registration and more information can be found on: namisantabarbara.org
URL:https://mentalwellnesscenter.org/event/family-to-family/2024-03-06/
LOCATION:CA
CATEGORIES:Community Wellness Program,NAMI SB
ATTACH;FMTTYPE=image/png:https://mentalwellnesscenter.org/wp-content/uploads/2024/02/Screenshot-2024-02-07-094148.png
END:VEVENT
BEGIN:VEVENT
DTSTART;TZID=UTC:20240306T163000
DTEND;TZID=UTC:20240306T180000
DTSTAMP:20260422T144729
CREATED:20240207T173807Z
LAST-MODIFIED:20240207T173831Z
UID:10005628-1709742600-1709748000@mentalwellnesscenter.org
SUMMARY:Anxiety Workshop for Adults
DESCRIPTION:Join us in a community group setting to learn ways to cope and/or live with anxiety. \nA safe space to work together using The Anxiety Workbook by Arlin Cunic\, M.A.
URL:https://mentalwellnesscenter.org/event/anxiety-workshop-for-adults-2/2024-03-06/
LOCATION:Mental Wellness Center – Conference Room A\, 617 Garden Street\, Santa Barbara\, CA\, 93101\, United States
CATEGORIES:Community Wellness Program
ATTACH;FMTTYPE=image/png:https://mentalwellnesscenter.org/wp-content/uploads/2023/12/Screenshot-2023-12-29-115115.png
END:VEVENT
BEGIN:VEVENT
DTSTART;TZID=UTC:20240306T150000
DTEND;TZID=UTC:20240306T170000
DTSTAMP:20260422T144729
CREATED:20240207T172526Z
LAST-MODIFIED:20240207T173035Z
UID:10005405-1709737200-1709744400@mentalwellnesscenter.org
SUMMARY:Walk-In Hours
DESCRIPTION:*Pending staff availability.
URL:https://mentalwellnesscenter.org/event/walk-in-hours-3-2/2024-03-06/
LOCATION:Mental Wellness Center\, 617 Garden Street\, Santa Barbara\, CA\, 93101\, United States
CATEGORIES:Community Wellness Program
ATTACH;FMTTYPE=image/png:https://mentalwellnesscenter.org/wp-content/uploads/2023/11/favicon.png
END:VEVENT
BEGIN:VEVENT
DTSTART;TZID=UTC:20240306T120000
DTEND;TZID=UTC:20240306T130000
DTSTAMP:20260422T144729
CREATED:20231229T201248Z
LAST-MODIFIED:20231229T201407Z
UID:10005010-1709726400-1709730000@mentalwellnesscenter.org
SUMMARY:Dance Movement
DESCRIPTION:The Fellowship Club is a recovery day program and learning center for adults living with mental health challenges. It is open weekdays from 9am to 1pm\, free of charge. Those interested in participating in the Fellowship Club’s programs and events must be registered. Vaccination including one booster is required for registration.
URL:https://mentalwellnesscenter.org/event/dance-movement-2-2/2024-03-06/
LOCATION:Mental Wellness Center – Fellowship Level\, 617 Garden Street\, Santa Barbara\, 93101\, United States
CATEGORIES:Fellowship Club
ATTACH;FMTTYPE=image/png:https://mentalwellnesscenter.org/wp-content/uploads/2023/12/Screenshot-2023-12-29-121104.png
END:VEVENT
BEGIN:VEVENT
DTSTART;TZID=UTC:20240306T103000
DTEND;TZID=UTC:20240306T113000
DTSTAMP:20260422T144729
CREATED:20231229T002514Z
LAST-MODIFIED:20231229T002552Z
UID:10004997-1709721000-1709724600@mentalwellnesscenter.org
SUMMARY:WRAP: Wellness Recovery Action Plan
DESCRIPTION:The Fellowship Club is a recovery day program and learning center for adults living with mental health challenges. It is open weekdays from 9am to 1pm\, free of charge. Those interested in participating in the Fellowship Club’s programs and events must be registered. Vaccination including one booster is required for registration.
URL:https://mentalwellnesscenter.org/event/wrap-wellness-recovery-action-plan-2-2/2024-03-06/
LOCATION:Mental Wellness Center – Fellowship Level\, 617 Garden Street\, Santa Barbara\, 93101\, United States
CATEGORIES:Fellowship Club
END:VEVENT
END:VCALENDAR