BEGIN:VCALENDAR
VERSION:2.0
PRODID:-//Mental Wellness Center - ECPv6.15.20//NONSGML v1.0//EN
CALSCALE:GREGORIAN
METHOD:PUBLISH
X-WR-CALNAME:Mental Wellness Center
X-ORIGINAL-URL:https://mentalwellnesscenter.org
X-WR-CALDESC:Events for Mental Wellness Center
REFRESH-INTERVAL;VALUE=DURATION:PT1H
X-Robots-Tag:noindex
X-PUBLISHED-TTL:PT1H
BEGIN:VTIMEZONE
TZID:UTC
BEGIN:STANDARD
TZOFFSETFROM:+0000
TZOFFSETTO:+0000
TZNAME:UTC
DTSTART:20230101T000000
END:STANDARD
END:VTIMEZONE
BEGIN:VEVENT
DTSTART;TZID=UTC:20240405T103000
DTEND;TZID=UTC:20240405T120000
DTSTAMP:20260422T010053
CREATED:20240401T210714Z
LAST-MODIFIED:20240401T210714Z
UID:10005053-1712313000-1712318400@mentalwellnesscenter.org
SUMMARY:Family Support Group
DESCRIPTION:A support group where family members supporting a loved-one living with a mental health disorder can share their stories\, build coping and communication skills\, and learn from each other. \nThis group meets in person at Mental Wellness Center’s Conference Room B\, located at 617 Garden Street. If you prefer remote instruction\, Family Support Group meets via Zoom on Mondays at 6:00pm. If you are interested in registered for either group\, please contact Julieta Silva at jsilva@mentalwellnesscenter.org.
URL:https://mentalwellnesscenter.org/event/family-support-group-3-2-2/
LOCATION:Mental Wellness Center\, 617 Garden Street\, Santa Barbara\, CA\, 93101\, United States
CATEGORIES:Community Wellness Program,NAMI SB
ATTACH;FMTTYPE=image/jpeg:https://mentalwellnesscenter.org/wp-content/uploads/2023/11/temp-family-support-group.jpg
END:VEVENT
BEGIN:VEVENT
DTSTART;TZID=UTC:20240405T103000
DTEND;TZID=UTC:20240405T113000
DTSTAMP:20260422T010053
CREATED:20240327T222829Z
LAST-MODIFIED:20240327T222844Z
UID:10006090-1712313000-1712316600@mentalwellnesscenter.org
SUMMARY:Movie Friday
DESCRIPTION:The Fellowship Club is a recovery day program and learning center for adults living with mental health challenges. It is open weekdays from 9am to 1pm\, free of charge. Those interested in participating in the Fellowship Club’s programs and events must be registered. Vaccination including one booster is required for registration.
URL:https://mentalwellnesscenter.org/event/movie-friday-2-2/2024-04-05/
LOCATION:Mental Wellness Center – Fellowship Level\, 617 Garden Street\, Santa Barbara\, 93101\, United States
CATEGORIES:Fellowship Club
END:VEVENT
BEGIN:VEVENT
DTSTART;TZID=UTC:20240404T180000
DTEND;TZID=UTC:20240404T193000
DTSTAMP:20260422T010053
CREATED:20240327T222634Z
LAST-MODIFIED:20240327T222726Z
UID:10006081-1712253600-1712259000@mentalwellnesscenter.org
SUMMARY:Stronger Together: Bipolar Disorder and Depression Support Group
DESCRIPTION:This peer-led support group meets in person at the Mental Wellness Center on Thursdays from 6-7:30 PM. There is no cost to attend. This group is intended for anyone in the community who lives with depression or bipolar disorder. The group covers a wide range of topics\, such as coping skills\, as well as discussions of the challenges faced by individuals in the group. \nFor more information\, please contact the group facilitator: Elizabeth Imperato (wrapofsantabarbara@gmail.com).
URL:https://mentalwellnesscenter.org/event/stronger-together-bipolar-disorder-and-depression-support-group-2-2/2024-04-04/
LOCATION:Mental Wellness Center\, 617 Garden Street\, Santa Barbara\, CA\, 93101\, United States
CATEGORIES:Community Wellness Program
ATTACH;FMTTYPE=image/jpeg:https://mentalwellnesscenter.org/wp-content/uploads/2023/11/temp-stronger-together.jpg
END:VEVENT
BEGIN:VEVENT
DTSTART;TZID=UTC:20240404T103000
DTEND;TZID=UTC:20240404T113000
DTSTAMP:20260422T010053
CREATED:20240327T221403Z
LAST-MODIFIED:20240327T221421Z
UID:10006072-1712226600-1712230200@mentalwellnesscenter.org
SUMMARY:Bingo
DESCRIPTION:The Fellowship Club is a recovery day program and learning center for adults living with mental health challenges. It is open weekdays from 9am to 1pm\, free of charge. Those interested in participating in the Fellowship Club’s programs and events must be registered. Vaccination including one booster is required for registration.
URL:https://mentalwellnesscenter.org/event/bingo-2-2/2024-04-04/
LOCATION:Mental Wellness Center – Fellowship Level\, 617 Garden Street\, Santa Barbara\, 93101\, United States
CATEGORIES:Fellowship Club
END:VEVENT
BEGIN:VEVENT
DTSTART;TZID=UTC:20240404T093000
DTEND;TZID=UTC:20240404T103000
DTSTAMP:20260422T010053
CREATED:20240327T221252Z
LAST-MODIFIED:20240327T221319Z
UID:10006063-1712223000-1712226600@mentalwellnesscenter.org
SUMMARY:Stretching & Meditation
DESCRIPTION:The Fellowship Club is a recovery day program and learning center for adults living with mental health challenges. It is open weekdays from 9am to 1pm\, free of charge. Those interested in participating in the Fellowship Club’s programs and events must be registered. Vaccination including one booster is required for registration.
URL:https://mentalwellnesscenter.org/event/stretching-meditation-2-2-2/2024-04-04/
LOCATION:Mental Wellness Center – Fellowship Level\, 617 Garden Street\, Santa Barbara\, 93101\, United States
CATEGORIES:Fellowship Club
ATTACH;FMTTYPE=image/jpeg:https://mentalwellnesscenter.org/wp-content/uploads/2023/12/stretching-and-meditation.jpg
END:VEVENT
BEGIN:VEVENT
DTSTART;TZID=UTC:20240403T183000
DTEND;TZID=UTC:20240403T210000
DTSTAMP:20260422T010053
CREATED:20240207T174531Z
LAST-MODIFIED:20240207T174904Z
UID:10005698-1712169000-1712178000@mentalwellnesscenter.org
SUMMARY:Family-To-Family
DESCRIPTION:FREE 8-session education program for family members of adults living with a mental health disorder. \nPre-Registration and more information can be found on: namisantabarbara.org
URL:https://mentalwellnesscenter.org/event/family-to-family/2024-04-03/
LOCATION:CA
CATEGORIES:Community Wellness Program,NAMI SB
ATTACH;FMTTYPE=image/png:https://mentalwellnesscenter.org/wp-content/uploads/2024/02/Screenshot-2024-02-07-094148.png
END:VEVENT
BEGIN:VEVENT
DTSTART;TZID=UTC:20240403T163000
DTEND;TZID=UTC:20240403T180000
DTSTAMP:20260422T010053
CREATED:20240207T173807Z
LAST-MODIFIED:20240207T173831Z
UID:10005632-1712161800-1712167200@mentalwellnesscenter.org
SUMMARY:Anxiety Workshop for Adults
DESCRIPTION:Join us in a community group setting to learn ways to cope and/or live with anxiety. \nA safe space to work together using The Anxiety Workbook by Arlin Cunic\, M.A.
URL:https://mentalwellnesscenter.org/event/anxiety-workshop-for-adults-2/2024-04-03/
LOCATION:Mental Wellness Center – Conference Room A\, 617 Garden Street\, Santa Barbara\, CA\, 93101\, United States
CATEGORIES:Community Wellness Program
ATTACH;FMTTYPE=image/png:https://mentalwellnesscenter.org/wp-content/uploads/2023/12/Screenshot-2023-12-29-115115.png
END:VEVENT
BEGIN:VEVENT
DTSTART;TZID=UTC:20240403T120000
DTEND;TZID=UTC:20240403T130000
DTSTAMP:20260422T010053
CREATED:20240327T220943Z
LAST-MODIFIED:20240327T221007Z
UID:10006045-1712145600-1712149200@mentalwellnesscenter.org
SUMMARY:Dance Movement
DESCRIPTION:The Fellowship Club is a recovery day program and learning center for adults living with mental health challenges. It is open weekdays from 9am to 1pm\, free of charge. Those interested in participating in the Fellowship Club’s programs and events must be registered. Vaccination including one booster is required for registration.
URL:https://mentalwellnesscenter.org/event/dance-movement-2-2-2/2024-04-03/
LOCATION:Mental Wellness Center – Fellowship Level\, 617 Garden Street\, Santa Barbara\, 93101\, United States
CATEGORIES:Fellowship Club
ATTACH;FMTTYPE=image/png:https://mentalwellnesscenter.org/wp-content/uploads/2023/12/Screenshot-2023-12-29-121104.png
END:VEVENT
BEGIN:VEVENT
DTSTART;TZID=UTC:20240403T103000
DTEND;TZID=UTC:20240403T113000
DTSTAMP:20260422T010053
CREATED:20240327T221100Z
LAST-MODIFIED:20240327T221121Z
UID:10006054-1712140200-1712143800@mentalwellnesscenter.org
SUMMARY:WRAP: Wellness Recovery Action Plan
DESCRIPTION:The Fellowship Club is a recovery day program and learning center for adults living with mental health challenges. It is open weekdays from 9am to 1pm\, free of charge. Those interested in participating in the Fellowship Club’s programs and events must be registered. Vaccination including one booster is required for registration.
URL:https://mentalwellnesscenter.org/event/wrap-wellness-recovery-action-plan-2-2-2/2024-04-03/
LOCATION:Mental Wellness Center – Fellowship Level\, 617 Garden Street\, Santa Barbara\, 93101\, United States
CATEGORIES:Fellowship Club
END:VEVENT
BEGIN:VEVENT
DTSTART;TZID=UTC:20240403T093000
DTEND;TZID=UTC:20240403T103000
DTSTAMP:20260422T010053
CREATED:20240327T220430Z
LAST-MODIFIED:20240327T220451Z
UID:10006010-1712136600-1712140200@mentalwellnesscenter.org
SUMMARY:Mindfulness Walk
DESCRIPTION:The Fellowship Club is a recovery day program and learning center for adults living with mental health challenges. It is open weekdays from 9am to 1pm\, free of charge. Those interested in participating in the Fellowship Club’s programs and events must be registered. Vaccination including one booster is required for registration.
URL:https://mentalwellnesscenter.org/event/mindfulness-walk-2-2-2-2-2/2024-04-03/
LOCATION:Mental Wellness Center – Fellowship Level\, 617 Garden Street\, Santa Barbara\, 93101\, United States
CATEGORIES:Fellowship Club
ATTACH;FMTTYPE=image/png:https://mentalwellnesscenter.org/wp-content/uploads/2023/12/Screenshot-2023-12-29-120309-1.png
END:VEVENT
BEGIN:VEVENT
DTSTART;TZID=UTC:20240402T120000
DTEND;TZID=UTC:20240402T130000
DTSTAMP:20260422T010053
CREATED:20240327T220814Z
LAST-MODIFIED:20240327T220843Z
UID:10006036-1712059200-1712062800@mentalwellnesscenter.org
SUMMARY:Overcoming Challenges
DESCRIPTION:The Fellowship Club is a recovery day program and learning center for adults living with mental health challenges. It is open weekdays from 9am to 1pm\, free of charge. Those interested in participating in the Fellowship Club’s programs and events must be registered. Vaccination including one booster is required for registration.
URL:https://mentalwellnesscenter.org/event/overcoming-challenges-2-2-2/2024-04-02/
LOCATION:Mental Wellness Center – Fellowship Level\, 617 Garden Street\, Santa Barbara\, 93101\, United States
CATEGORIES:Fellowship Club
ATTACH;FMTTYPE=image/jpeg:https://mentalwellnesscenter.org/wp-content/uploads/2023/12/overcoming-challenges.jpg
END:VEVENT
BEGIN:VEVENT
DTSTART;TZID=UTC:20240401T180000
DTEND;TZID=UTC:20240401T193000
DTSTAMP:20260422T010053
CREATED:20240515T182507Z
LAST-MODIFIED:20240515T182507Z
UID:10006190-1711994400-1711999800@mentalwellnesscenter.org
SUMMARY:Family Support Group - Virtual
DESCRIPTION:A support group where family members supporting a loved-one living with a mental health disorder can share their stories\, build coping and communication skills\, and learn from each other. \nThis group meets via Zoom only. If you prefer in-person attendance\, Family Support Group meets in-person at Mental Wellness Center on Thursdays from 6:00-7:30pm. \nTo receive the zoom link\, please email our Family Advocate\, at lhernandez@mentalwellnesscenter.org. \n 
URL:https://mentalwellnesscenter.org/event/family-support-group-2-2-2-2-2/2024-04-01/
LOCATION:CA
CATEGORIES:Community Wellness Program,NAMI SB,Virtual Groups
ATTACH;FMTTYPE=image/jpeg:https://mentalwellnesscenter.org/wp-content/uploads/2023/11/temp-family-support-group.jpg
END:VEVENT
BEGIN:VEVENT
DTSTART;TZID=UTC:20240401T173000
DTEND;TZID=UTC:20240401T193000
DTSTAMP:20260422T010053
CREATED:20240507T174148Z
LAST-MODIFIED:20240507T180945Z
UID:10006169-1711992600-1711999800@mentalwellnesscenter.org
SUMMARY:El Grupo Colibrí
DESCRIPTION:Do you or someone you care about suffer from a mental health disorder? Register for our free support group and learn how to support those you love. \nGroup is held in Spanish at Mental Wellness Center. Call Vicente Garcia for more information: 805-450-0846. Registration is completely free.
URL:https://mentalwellnesscenter.org/event/el-grupo-colibri-2-2-2-2/2024-04-01/
LOCATION:Mental Wellness Center\, 617 Garden Street\, Santa Barbara\, CA\, 93101\, United States
CATEGORIES:Community Wellness Program,Grupos en Español
ATTACH;FMTTYPE=image/jpeg:https://mentalwellnesscenter.org/wp-content/uploads/2023/11/Grupo-Colibri-2.jpg
END:VEVENT
BEGIN:VEVENT
DTSTART;TZID=UTC:20240401T133000
DTEND;TZID=UTC:20240401T153000
DTSTAMP:20260422T010053
CREATED:20240507T174032Z
LAST-MODIFIED:20240507T174057Z
UID:10006156-1711978200-1711985400@mentalwellnesscenter.org
SUMMARY:Foundations for Wellbeing: A Safe Space for Women
DESCRIPTION:This peer-led space will be available every other Monday from 1:30-3:30 pm\, group session begins at 2 pm. \nTopics for this group will include: \n\nSelf-care habits & techniques\nCommunication skills\nWork-life balance\nEmbracing our stories\n\n 
URL:https://mentalwellnesscenter.org/event/foundations-for-wellbeing-a-safe-space-for-women-2-2/2024-04-01/
LOCATION:Mental Wellness Center – Fellowship Level\, 617 Garden Street\, Santa Barbara\, 93101\, United States
CATEGORIES:Community Wellness Program,Fellowship Club
ATTACH;FMTTYPE=image/webp:https://mentalwellnesscenter.org/wp-content/uploads/2023/12/safe-space-for-women.webp
END:VEVENT
BEGIN:VEVENT
DTSTART;TZID=UTC:20240401T120000
DTEND;TZID=UTC:20240401T130000
DTSTAMP:20260422T010053
CREATED:20240327T220617Z
LAST-MODIFIED:20240327T220701Z
UID:10006027-1711972800-1711976400@mentalwellnesscenter.org
SUMMARY:Music Room
DESCRIPTION:The Fellowship Club is a recovery day program and learning center for adults living with mental health challenges. It is open weekdays from 9am to 1pm\, free of charge. Those interested in participating in the Fellowship Club’s programs and events must be registered. Vaccination including one booster is required for registration.
URL:https://mentalwellnesscenter.org/event/music-room-2-2-2/2024-04-01/
LOCATION:Mental Wellness Center – Fellowship Level\, 617 Garden Street\, Santa Barbara\, 93101\, United States
CATEGORIES:Community Wellness Program,Fellowship Club
END:VEVENT
BEGIN:VEVENT
DTSTART;TZID=UTC:20240401T103000
DTEND;TZID=UTC:20240401T113000
DTSTAMP:20260422T010053
CREATED:20240327T215813Z
LAST-MODIFIED:20240327T215926Z
UID:10006000-1711967400-1711971000@mentalwellnesscenter.org
SUMMARY:Building Self Esteem
DESCRIPTION:The Fellowship Club is a recovery day program and learning center for adults living with mental health challenges. It is open weekdays from 9am to 1pm\, free of charge. Those interested in participating in the Fellowship Club’s programs and events must be registered. Vaccination including one booster is required for registration.
URL:https://mentalwellnesscenter.org/event/building-self-esteem-2-2-2/2024-04-01/
LOCATION:Mental Wellness Center – Fellowship Level\, 617 Garden Street\, Santa Barbara\, 93101\, United States
CATEGORIES:Community Wellness Program,Fellowship Club
END:VEVENT
BEGIN:VEVENT
DTSTART;TZID=UTC:20240401T093000
DTEND;TZID=UTC:20240401T103000
DTSTAMP:20260422T010053
CREATED:20240327T220430Z
LAST-MODIFIED:20240327T220451Z
UID:10006009-1711963800-1711967400@mentalwellnesscenter.org
SUMMARY:Mindfulness Walk
DESCRIPTION:The Fellowship Club is a recovery day program and learning center for adults living with mental health challenges. It is open weekdays from 9am to 1pm\, free of charge. Those interested in participating in the Fellowship Club’s programs and events must be registered. Vaccination including one booster is required for registration.
URL:https://mentalwellnesscenter.org/event/mindfulness-walk-2-2-2-2-2/2024-04-01/
LOCATION:Mental Wellness Center – Fellowship Level\, 617 Garden Street\, Santa Barbara\, 93101\, United States
CATEGORIES:Fellowship Club
ATTACH;FMTTYPE=image/png:https://mentalwellnesscenter.org/wp-content/uploads/2023/12/Screenshot-2023-12-29-120309-1.png
END:VEVENT
BEGIN:VEVENT
DTSTART;TZID=UTC:20240329T163000
DTEND;TZID=UTC:20240329T173000
DTSTAMP:20260422T010053
CREATED:20231228T235251Z
LAST-MODIFIED:20240207T173529Z
UID:10004913-1711729800-1711733400@mentalwellnesscenter.org
SUMMARY:MWC Music Group
DESCRIPTION:Please contact Vicente for more information at (805) 845-3186.
URL:https://mentalwellnesscenter.org/event/mwc-music-group-2-2/2024-03-29/
LOCATION:Mental Wellness Center – Fellowship Level\, 617 Garden Street\, Santa Barbara\, 93101\, United States
CATEGORIES:Community Wellness Program
ATTACH;FMTTYPE=image/jpeg:https://mentalwellnesscenter.org/wp-content/uploads/2023/11/360_F_216493151_TWqanMvoHC6Ru8Yyqk6lFNyv1A2pRAwl.jpg
END:VEVENT
BEGIN:VEVENT
DTSTART;TZID=UTC:20240329T160000
DTEND;TZID=UTC:20240329T173000
DTSTAMP:20260422T010053
CREATED:20240314T004206Z
LAST-MODIFIED:20240314T004320Z
UID:10005938-1711728000-1711733400@mentalwellnesscenter.org
SUMMARY:Drumming Circle
DESCRIPTION:This is a group for all people who love drumming in a circle or who want to try it out for the first time. There is no experience needed and you don’t even need a drum. Just come by to join the circle\, all age groups are welcome. Children under 18 must be accompanied by an adult. \nRegister Now (click here)
URL:https://mentalwellnesscenter.org/event/drumming-circle-2-2-3-2-2/2024-03-29/
LOCATION:Mental Wellness Center – Fellowship Level\, 617 Garden Street\, Santa Barbara\, 93101\, United States
CATEGORIES:Community Wellness Program,Grupos en Español
ATTACH;FMTTYPE=image/png:https://mentalwellnesscenter.org/wp-content/uploads/2023/11/drums2.png
END:VEVENT
BEGIN:VEVENT
DTSTART;TZID=UTC:20240329T103000
DTEND;TZID=UTC:20240329T113000
DTSTAMP:20260422T010053
CREATED:20240327T222829Z
LAST-MODIFIED:20240327T222844Z
UID:10004630-1711708200-1711711800@mentalwellnesscenter.org
SUMMARY:Movie Friday
DESCRIPTION:The Fellowship Club is a recovery day program and learning center for adults living with mental health challenges. It is open weekdays from 9am to 1pm\, free of charge. Those interested in participating in the Fellowship Club’s programs and events must be registered. Vaccination including one booster is required for registration.
URL:https://mentalwellnesscenter.org/event/movie-friday-2-2/2024-03-29/
LOCATION:Mental Wellness Center – Fellowship Level\, 617 Garden Street\, Santa Barbara\, 93101\, United States
CATEGORIES:Fellowship Club
END:VEVENT
BEGIN:VEVENT
DTSTART;TZID=UTC:20240329T090000
DTEND;TZID=UTC:20240329T110000
DTSTAMP:20260422T010053
CREATED:20240311T212557Z
LAST-MODIFIED:20240311T212627Z
UID:10005928-1711702800-1711710000@mentalwellnesscenter.org
SUMMARY:Walk-in Hours
DESCRIPTION:*Pending staff availabillity
URL:https://mentalwellnesscenter.org/event/walk-in-hours-4-2-2-2-2/2024-03-29/
LOCATION:CA
CATEGORIES:Community Wellness Program
ATTACH;FMTTYPE=image/png:https://mentalwellnesscenter.org/wp-content/uploads/2023/11/favicon.png
END:VEVENT
BEGIN:VEVENT
DTSTART;TZID=UTC:20240328T190000
DTEND;TZID=UTC:20240328T203000
DTSTAMP:20260422T010053
CREATED:20240207T173638Z
LAST-MODIFIED:20240207T173639Z
UID:10004326-1711652400-1711657800@mentalwellnesscenter.org
SUMMARY:NAMI Speaker Meeting
DESCRIPTION:
URL:https://mentalwellnesscenter.org/event/nami-speaker-meeting-2/2024-03-28/
LOCATION:Mental Wellness Center – Fellowship Level\, 617 Garden Street\, Santa Barbara\, 93101\, United States
CATEGORIES:Community Wellness Program,NAMI SB
ATTACH;FMTTYPE=image/png:https://mentalwellnesscenter.org/wp-content/uploads/2023/10/tile-public-policy-advocacy.png
END:VEVENT
BEGIN:VEVENT
DTSTART;TZID=UTC:20240328T180000
DTEND;TZID=UTC:20240328T193000
DTSTAMP:20260422T010053
CREATED:20240327T222634Z
LAST-MODIFIED:20240327T222726Z
UID:10005039-1711648800-1711654200@mentalwellnesscenter.org
SUMMARY:Stronger Together: Bipolar Disorder and Depression Support Group
DESCRIPTION:This peer-led support group meets in person at the Mental Wellness Center on Thursdays from 6-7:30 PM. There is no cost to attend. This group is intended for anyone in the community who lives with depression or bipolar disorder. The group covers a wide range of topics\, such as coping skills\, as well as discussions of the challenges faced by individuals in the group. \nFor more information\, please contact the group facilitator: Elizabeth Imperato (wrapofsantabarbara@gmail.com).
URL:https://mentalwellnesscenter.org/event/stronger-together-bipolar-disorder-and-depression-support-group-2-2/2024-03-28/
LOCATION:Mental Wellness Center\, 617 Garden Street\, Santa Barbara\, CA\, 93101\, United States
CATEGORIES:Community Wellness Program
ATTACH;FMTTYPE=image/jpeg:https://mentalwellnesscenter.org/wp-content/uploads/2023/11/temp-stronger-together.jpg
END:VEVENT
BEGIN:VEVENT
DTSTART;TZID=UTC:20240328T103000
DTEND;TZID=UTC:20240328T113000
DTSTAMP:20260422T010053
CREATED:20240327T221403Z
LAST-MODIFIED:20240327T221421Z
UID:10005026-1711621800-1711625400@mentalwellnesscenter.org
SUMMARY:Bingo
DESCRIPTION:The Fellowship Club is a recovery day program and learning center for adults living with mental health challenges. It is open weekdays from 9am to 1pm\, free of charge. Those interested in participating in the Fellowship Club’s programs and events must be registered. Vaccination including one booster is required for registration.
URL:https://mentalwellnesscenter.org/event/bingo-2-2/2024-03-28/
LOCATION:Mental Wellness Center – Fellowship Level\, 617 Garden Street\, Santa Barbara\, 93101\, United States
CATEGORIES:Fellowship Club
END:VEVENT
BEGIN:VEVENT
DTSTART;TZID=UTC:20240328T093000
DTEND;TZID=UTC:20240328T103000
DTSTAMP:20260422T010053
CREATED:20240327T221252Z
LAST-MODIFIED:20240327T221319Z
UID:10004890-1711618200-1711621800@mentalwellnesscenter.org
SUMMARY:Stretching & Meditation
DESCRIPTION:The Fellowship Club is a recovery day program and learning center for adults living with mental health challenges. It is open weekdays from 9am to 1pm\, free of charge. Those interested in participating in the Fellowship Club’s programs and events must be registered. Vaccination including one booster is required for registration.
URL:https://mentalwellnesscenter.org/event/stretching-meditation-2-2-2/2024-03-28/
LOCATION:Mental Wellness Center – Fellowship Level\, 617 Garden Street\, Santa Barbara\, 93101\, United States
CATEGORIES:Fellowship Club
ATTACH;FMTTYPE=image/jpeg:https://mentalwellnesscenter.org/wp-content/uploads/2023/12/stretching-and-meditation.jpg
END:VEVENT
BEGIN:VEVENT
DTSTART;TZID=UTC:20240327T183000
DTEND;TZID=UTC:20240327T210000
DTSTAMP:20260422T010053
CREATED:20240207T174531Z
LAST-MODIFIED:20240207T174904Z
UID:10005697-1711564200-1711573200@mentalwellnesscenter.org
SUMMARY:Family-To-Family
DESCRIPTION:FREE 8-session education program for family members of adults living with a mental health disorder. \nPre-Registration and more information can be found on: namisantabarbara.org
URL:https://mentalwellnesscenter.org/event/family-to-family/2024-03-27/
LOCATION:CA
CATEGORIES:Community Wellness Program,NAMI SB
ATTACH;FMTTYPE=image/png:https://mentalwellnesscenter.org/wp-content/uploads/2024/02/Screenshot-2024-02-07-094148.png
END:VEVENT
BEGIN:VEVENT
DTSTART;TZID=UTC:20240327T163000
DTEND;TZID=UTC:20240327T180000
DTSTAMP:20260422T010053
CREATED:20240207T173807Z
LAST-MODIFIED:20240207T173831Z
UID:10005631-1711557000-1711562400@mentalwellnesscenter.org
SUMMARY:Anxiety Workshop for Adults
DESCRIPTION:Join us in a community group setting to learn ways to cope and/or live with anxiety. \nA safe space to work together using The Anxiety Workbook by Arlin Cunic\, M.A.
URL:https://mentalwellnesscenter.org/event/anxiety-workshop-for-adults-2/2024-03-27/
LOCATION:Mental Wellness Center – Conference Room A\, 617 Garden Street\, Santa Barbara\, CA\, 93101\, United States
CATEGORIES:Community Wellness Program
ATTACH;FMTTYPE=image/png:https://mentalwellnesscenter.org/wp-content/uploads/2023/12/Screenshot-2023-12-29-115115.png
END:VEVENT
BEGIN:VEVENT
DTSTART;TZID=UTC:20240327T150000
DTEND;TZID=UTC:20240327T170000
DTSTAMP:20260422T010053
CREATED:20240207T172526Z
LAST-MODIFIED:20240207T173035Z
UID:10005408-1711551600-1711558800@mentalwellnesscenter.org
SUMMARY:Walk-In Hours
DESCRIPTION:*Pending staff availability.
URL:https://mentalwellnesscenter.org/event/walk-in-hours-3-2/2024-03-27/
LOCATION:Mental Wellness Center\, 617 Garden Street\, Santa Barbara\, CA\, 93101\, United States
CATEGORIES:Community Wellness Program
ATTACH;FMTTYPE=image/png:https://mentalwellnesscenter.org/wp-content/uploads/2023/11/favicon.png
END:VEVENT
BEGIN:VEVENT
DTSTART;TZID=UTC:20240327T120000
DTEND;TZID=UTC:20240327T130000
DTSTAMP:20260422T010053
CREATED:20240327T220943Z
LAST-MODIFIED:20240327T221007Z
UID:10005013-1711540800-1711544400@mentalwellnesscenter.org
SUMMARY:Dance Movement
DESCRIPTION:The Fellowship Club is a recovery day program and learning center for adults living with mental health challenges. It is open weekdays from 9am to 1pm\, free of charge. Those interested in participating in the Fellowship Club’s programs and events must be registered. Vaccination including one booster is required for registration.
URL:https://mentalwellnesscenter.org/event/dance-movement-2-2-2/2024-03-27/
LOCATION:Mental Wellness Center – Fellowship Level\, 617 Garden Street\, Santa Barbara\, 93101\, United States
CATEGORIES:Fellowship Club
ATTACH;FMTTYPE=image/png:https://mentalwellnesscenter.org/wp-content/uploads/2023/12/Screenshot-2023-12-29-121104.png
END:VEVENT
BEGIN:VEVENT
DTSTART;TZID=UTC:20240327T103000
DTEND;TZID=UTC:20240327T113000
DTSTAMP:20260422T010053
CREATED:20240327T221100Z
LAST-MODIFIED:20240327T221121Z
UID:10005000-1711535400-1711539000@mentalwellnesscenter.org
SUMMARY:WRAP: Wellness Recovery Action Plan
DESCRIPTION:The Fellowship Club is a recovery day program and learning center for adults living with mental health challenges. It is open weekdays from 9am to 1pm\, free of charge. Those interested in participating in the Fellowship Club’s programs and events must be registered. Vaccination including one booster is required for registration.
URL:https://mentalwellnesscenter.org/event/wrap-wellness-recovery-action-plan-2-2-2/2024-03-27/
LOCATION:Mental Wellness Center – Fellowship Level\, 617 Garden Street\, Santa Barbara\, 93101\, United States
CATEGORIES:Fellowship Club
END:VEVENT
END:VCALENDAR