BEGIN:VCALENDAR
VERSION:2.0
PRODID:-//Mental Wellness Center - ECPv6.15.20//NONSGML v1.0//EN
CALSCALE:GREGORIAN
METHOD:PUBLISH
X-WR-CALNAME:Mental Wellness Center
X-ORIGINAL-URL:https://mentalwellnesscenter.org
X-WR-CALDESC:Events for Mental Wellness Center
REFRESH-INTERVAL;VALUE=DURATION:PT1H
X-Robots-Tag:noindex
X-PUBLISHED-TTL:PT1H
BEGIN:VTIMEZONE
TZID:UTC
BEGIN:STANDARD
TZOFFSETFROM:+0000
TZOFFSETTO:+0000
TZNAME:UTC
DTSTART:20250101T000000
END:STANDARD
END:VTIMEZONE
BEGIN:VEVENT
DTSTART;TZID=UTC:20260608T180000
DTEND;TZID=UTC:20260608T193000
DTSTAMP:20260419T200402
CREATED:20260130T191335Z
LAST-MODIFIED:20260130T191337Z
UID:10012490-1780941600-1780947000@mentalwellnesscenter.org
SUMMARY:Grupo Colibrí
DESCRIPTION:A Spanish-speaking support group where adults living with a mental health disorder can share their stories\, build coping and communication skills\, and learn from each other. \nThis group meets in person at Mental Wellness Center’s Collins Hall\, located at 617 Garden Street. If you are interested in registering for this group\, please contact our Family Advocate at lhernandez@mentalwellnesscenter.org.
URL:https://mentalwellnesscenter.org/event/grupo-colibri-2-3-2-2-2/2026-06-08/
LOCATION:Mental Wellness Center\, 617 Garden Street\, Santa Barbara\, CA\, 93101\, United States
CATEGORIES:Community Wellness Program,Grupos en Español
ATTACH;FMTTYPE=image/jpeg:https://mentalwellnesscenter.org/wp-content/uploads/2024/10/colibri3.jpg
END:VEVENT
BEGIN:VEVENT
DTSTART;TZID=UTC:20260612T173000
DTEND;TZID=UTC:20260612T193000
DTSTAMP:20260419T200402
CREATED:20250814T172635Z
LAST-MODIFIED:20250814T172635Z
UID:10011730-1781285400-1781292600@mentalwellnesscenter.org
SUMMARY:Juntos en Familia
DESCRIPTION:Ven a conocer a tu communidad y aprender sobre la salud mental en los adultos. El tema de este mes es Salud Mental de los Hombres. Llame para confirmar su asistencia y si necesitan reservar transportacion (805)-325-5580 \n 
URL:https://mentalwellnesscenter.org/event/juntos-en-familia-6/
LOCATION:Mental Wellness Center\, 617 Garden Street\, Santa Barbara\, CA\, 93101\, United States
CATEGORIES:Community Wellness Program,Grupos en Español
ATTACH;FMTTYPE=image/jpeg:https://mentalwellnesscenter.org/wp-content/uploads/2024/10/Big-MWC-Tile.svg.jpg
END:VEVENT
END:VCALENDAR