BEGIN:VCALENDAR
VERSION:2.0
PRODID:-//Mental Wellness Center - ECPv6.15.20//NONSGML v1.0//EN
CALSCALE:GREGORIAN
METHOD:PUBLISH
X-WR-CALNAME:Mental Wellness Center
X-ORIGINAL-URL:https://mentalwellnesscenter.org
X-WR-CALDESC:Events for Mental Wellness Center
REFRESH-INTERVAL;VALUE=DURATION:PT1H
X-Robots-Tag:noindex
X-PUBLISHED-TTL:PT1H
BEGIN:VTIMEZONE
TZID:UTC
BEGIN:STANDARD
TZOFFSETFROM:+0000
TZOFFSETTO:+0000
TZNAME:UTC
DTSTART:20260101T000000
END:STANDARD
END:VTIMEZONE
BEGIN:VEVENT
DTSTART;TZID=UTC:20270125T090000
DTEND;TZID=UTC:20270125T130000
DTSTAMP:20260422T085757
CREATED:20241003T191457Z
LAST-MODIFIED:20250203T192551Z
UID:10007511-1800867600-1800882000@mentalwellnesscenter.org
SUMMARY:Fellowship Club
DESCRIPTION:Wherever you are along your mental wellness and recovery journey\, at the Fellowship Club our staff is here to offer a listening ear and warm smile. As peers in mental wellness and recovery ourselves\, we emphasize honoring individuality and life experience\, and letting you decide when it’s right to connect with other members or participate in our daily offerings. \nEvery day you’ll enjoy a nourishing midday meal and snacks. Plus\, our staff is also here to help with: \n\ndaily living\nrecovery and wellness\nhousing\ncommunity resources and referrals\n\nThe Fellowship Club requires advance registration in order to participate. Registrations are paused at this time. If you would like to be contacted as soon as registrations open up again\, please call the main office line at (805)-884-8440.
URL:https://mentalwellnesscenter.org/event/fellowship-club/2027-01-25/
LOCATION:Mental Wellness Center – Fellowship Level\, 617 Garden Street\, Santa Barbara\, 93101\, United States
CATEGORIES:Fellowship Club
ATTACH;FMTTYPE=image/jpeg:https://mentalwellnesscenter.org/wp-content/uploads/2024/10/updated-fellowship-club.jpg
END:VEVENT
BEGIN:VEVENT
DTSTART;TZID=UTC:20270126T090000
DTEND;TZID=UTC:20270126T130000
DTSTAMP:20260422T085757
CREATED:20241003T191457Z
LAST-MODIFIED:20250203T192551Z
UID:10007512-1800954000-1800968400@mentalwellnesscenter.org
SUMMARY:Fellowship Club
DESCRIPTION:Wherever you are along your mental wellness and recovery journey\, at the Fellowship Club our staff is here to offer a listening ear and warm smile. As peers in mental wellness and recovery ourselves\, we emphasize honoring individuality and life experience\, and letting you decide when it’s right to connect with other members or participate in our daily offerings. \nEvery day you’ll enjoy a nourishing midday meal and snacks. Plus\, our staff is also here to help with: \n\ndaily living\nrecovery and wellness\nhousing\ncommunity resources and referrals\n\nThe Fellowship Club requires advance registration in order to participate. Registrations are paused at this time. If you would like to be contacted as soon as registrations open up again\, please call the main office line at (805)-884-8440.
URL:https://mentalwellnesscenter.org/event/fellowship-club/2027-01-26/
LOCATION:Mental Wellness Center – Fellowship Level\, 617 Garden Street\, Santa Barbara\, 93101\, United States
CATEGORIES:Fellowship Club
ATTACH;FMTTYPE=image/jpeg:https://mentalwellnesscenter.org/wp-content/uploads/2024/10/updated-fellowship-club.jpg
END:VEVENT
BEGIN:VEVENT
DTSTART;TZID=UTC:20270127T090000
DTEND;TZID=UTC:20270127T130000
DTSTAMP:20260422T085757
CREATED:20241003T191457Z
LAST-MODIFIED:20250203T192551Z
UID:10007513-1801040400-1801054800@mentalwellnesscenter.org
SUMMARY:Fellowship Club
DESCRIPTION:Wherever you are along your mental wellness and recovery journey\, at the Fellowship Club our staff is here to offer a listening ear and warm smile. As peers in mental wellness and recovery ourselves\, we emphasize honoring individuality and life experience\, and letting you decide when it’s right to connect with other members or participate in our daily offerings. \nEvery day you’ll enjoy a nourishing midday meal and snacks. Plus\, our staff is also here to help with: \n\ndaily living\nrecovery and wellness\nhousing\ncommunity resources and referrals\n\nThe Fellowship Club requires advance registration in order to participate. Registrations are paused at this time. If you would like to be contacted as soon as registrations open up again\, please call the main office line at (805)-884-8440.
URL:https://mentalwellnesscenter.org/event/fellowship-club/2027-01-27/
LOCATION:Mental Wellness Center – Fellowship Level\, 617 Garden Street\, Santa Barbara\, 93101\, United States
CATEGORIES:Fellowship Club
ATTACH;FMTTYPE=image/jpeg:https://mentalwellnesscenter.org/wp-content/uploads/2024/10/updated-fellowship-club.jpg
END:VEVENT
BEGIN:VEVENT
DTSTART;TZID=UTC:20270128T090000
DTEND;TZID=UTC:20270128T130000
DTSTAMP:20260422T085757
CREATED:20241003T191457Z
LAST-MODIFIED:20250203T192551Z
UID:10007514-1801126800-1801141200@mentalwellnesscenter.org
SUMMARY:Fellowship Club
DESCRIPTION:Wherever you are along your mental wellness and recovery journey\, at the Fellowship Club our staff is here to offer a listening ear and warm smile. As peers in mental wellness and recovery ourselves\, we emphasize honoring individuality and life experience\, and letting you decide when it’s right to connect with other members or participate in our daily offerings. \nEvery day you’ll enjoy a nourishing midday meal and snacks. Plus\, our staff is also here to help with: \n\ndaily living\nrecovery and wellness\nhousing\ncommunity resources and referrals\n\nThe Fellowship Club requires advance registration in order to participate. Registrations are paused at this time. If you would like to be contacted as soon as registrations open up again\, please call the main office line at (805)-884-8440.
URL:https://mentalwellnesscenter.org/event/fellowship-club/2027-01-28/
LOCATION:Mental Wellness Center – Fellowship Level\, 617 Garden Street\, Santa Barbara\, 93101\, United States
CATEGORIES:Fellowship Club
ATTACH;FMTTYPE=image/jpeg:https://mentalwellnesscenter.org/wp-content/uploads/2024/10/updated-fellowship-club.jpg
END:VEVENT
BEGIN:VEVENT
DTSTART;TZID=UTC:20270129T090000
DTEND;TZID=UTC:20270129T130000
DTSTAMP:20260422T085757
CREATED:20241003T191457Z
LAST-MODIFIED:20250203T192551Z
UID:10007515-1801213200-1801227600@mentalwellnesscenter.org
SUMMARY:Fellowship Club
DESCRIPTION:Wherever you are along your mental wellness and recovery journey\, at the Fellowship Club our staff is here to offer a listening ear and warm smile. As peers in mental wellness and recovery ourselves\, we emphasize honoring individuality and life experience\, and letting you decide when it’s right to connect with other members or participate in our daily offerings. \nEvery day you’ll enjoy a nourishing midday meal and snacks. Plus\, our staff is also here to help with: \n\ndaily living\nrecovery and wellness\nhousing\ncommunity resources and referrals\n\nThe Fellowship Club requires advance registration in order to participate. Registrations are paused at this time. If you would like to be contacted as soon as registrations open up again\, please call the main office line at (805)-884-8440.
URL:https://mentalwellnesscenter.org/event/fellowship-club/2027-01-29/
LOCATION:Mental Wellness Center – Fellowship Level\, 617 Garden Street\, Santa Barbara\, 93101\, United States
CATEGORIES:Fellowship Club
ATTACH;FMTTYPE=image/jpeg:https://mentalwellnesscenter.org/wp-content/uploads/2024/10/updated-fellowship-club.jpg
END:VEVENT
END:VCALENDAR