BEGIN:VCALENDAR
VERSION:2.0
PRODID:-//Mental Wellness Center - ECPv6.15.20//NONSGML v1.0//EN
CALSCALE:GREGORIAN
METHOD:PUBLISH
X-ORIGINAL-URL:https://mentalwellnesscenter.org
X-WR-CALDESC:Events for Mental Wellness Center
REFRESH-INTERVAL;VALUE=DURATION:PT1H
X-Robots-Tag:noindex
X-PUBLISHED-TTL:PT1H
BEGIN:VTIMEZONE
TZID:UTC
BEGIN:STANDARD
TZOFFSETFROM:+0000
TZOFFSETTO:+0000
TZNAME:UTC
DTSTART:20250101T000000
END:STANDARD
END:VTIMEZONE
BEGIN:VEVENT
DTSTART;TZID=UTC:20261019T090000
DTEND;TZID=UTC:20261019T130000
DTSTAMP:20260421T200428
CREATED:20241003T191457Z
LAST-MODIFIED:20250203T192551Z
UID:10007441-1792400400-1792414800@mentalwellnesscenter.org
SUMMARY:Fellowship Club
DESCRIPTION:Wherever you are along your mental wellness and recovery journey\, at the Fellowship Club our staff is here to offer a listening ear and warm smile. As peers in mental wellness and recovery ourselves\, we emphasize honoring individuality and life experience\, and letting you decide when it’s right to connect with other members or participate in our daily offerings. \nEvery day you’ll enjoy a nourishing midday meal and snacks. Plus\, our staff is also here to help with: \n\ndaily living\nrecovery and wellness\nhousing\ncommunity resources and referrals\n\nThe Fellowship Club requires advance registration in order to participate. Registrations are paused at this time. If you would like to be contacted as soon as registrations open up again\, please call the main office line at (805)-884-8440.
URL:https://mentalwellnesscenter.org/event/fellowship-club/2026-10-19/
LOCATION:Mental Wellness Center – Fellowship Level\, 617 Garden Street\, Santa Barbara\, 93101\, United States
CATEGORIES:Fellowship Club
ATTACH;FMTTYPE=image/jpeg:https://mentalwellnesscenter.org/wp-content/uploads/2024/10/updated-fellowship-club.jpg
END:VEVENT
BEGIN:VEVENT
DTSTART;TZID=UTC:20261020T090000
DTEND;TZID=UTC:20261020T130000
DTSTAMP:20260421T200428
CREATED:20241003T191457Z
LAST-MODIFIED:20250203T192551Z
UID:10007442-1792486800-1792501200@mentalwellnesscenter.org
SUMMARY:Fellowship Club
DESCRIPTION:Wherever you are along your mental wellness and recovery journey\, at the Fellowship Club our staff is here to offer a listening ear and warm smile. As peers in mental wellness and recovery ourselves\, we emphasize honoring individuality and life experience\, and letting you decide when it’s right to connect with other members or participate in our daily offerings. \nEvery day you’ll enjoy a nourishing midday meal and snacks. Plus\, our staff is also here to help with: \n\ndaily living\nrecovery and wellness\nhousing\ncommunity resources and referrals\n\nThe Fellowship Club requires advance registration in order to participate. Registrations are paused at this time. If you would like to be contacted as soon as registrations open up again\, please call the main office line at (805)-884-8440.
URL:https://mentalwellnesscenter.org/event/fellowship-club/2026-10-20/
LOCATION:Mental Wellness Center – Fellowship Level\, 617 Garden Street\, Santa Barbara\, 93101\, United States
CATEGORIES:Fellowship Club
ATTACH;FMTTYPE=image/jpeg:https://mentalwellnesscenter.org/wp-content/uploads/2024/10/updated-fellowship-club.jpg
END:VEVENT
BEGIN:VEVENT
DTSTART;TZID=UTC:20261021T090000
DTEND;TZID=UTC:20261021T130000
DTSTAMP:20260421T200428
CREATED:20241003T191457Z
LAST-MODIFIED:20250203T192551Z
UID:10007443-1792573200-1792587600@mentalwellnesscenter.org
SUMMARY:Fellowship Club
DESCRIPTION:Wherever you are along your mental wellness and recovery journey\, at the Fellowship Club our staff is here to offer a listening ear and warm smile. As peers in mental wellness and recovery ourselves\, we emphasize honoring individuality and life experience\, and letting you decide when it’s right to connect with other members or participate in our daily offerings. \nEvery day you’ll enjoy a nourishing midday meal and snacks. Plus\, our staff is also here to help with: \n\ndaily living\nrecovery and wellness\nhousing\ncommunity resources and referrals\n\nThe Fellowship Club requires advance registration in order to participate. Registrations are paused at this time. If you would like to be contacted as soon as registrations open up again\, please call the main office line at (805)-884-8440.
URL:https://mentalwellnesscenter.org/event/fellowship-club/2026-10-21/
LOCATION:Mental Wellness Center – Fellowship Level\, 617 Garden Street\, Santa Barbara\, 93101\, United States
CATEGORIES:Fellowship Club
ATTACH;FMTTYPE=image/jpeg:https://mentalwellnesscenter.org/wp-content/uploads/2024/10/updated-fellowship-club.jpg
END:VEVENT
BEGIN:VEVENT
DTSTART;TZID=UTC:20261022T090000
DTEND;TZID=UTC:20261022T130000
DTSTAMP:20260421T200428
CREATED:20241003T191457Z
LAST-MODIFIED:20250203T192551Z
UID:10007444-1792659600-1792674000@mentalwellnesscenter.org
SUMMARY:Fellowship Club
DESCRIPTION:Wherever you are along your mental wellness and recovery journey\, at the Fellowship Club our staff is here to offer a listening ear and warm smile. As peers in mental wellness and recovery ourselves\, we emphasize honoring individuality and life experience\, and letting you decide when it’s right to connect with other members or participate in our daily offerings. \nEvery day you’ll enjoy a nourishing midday meal and snacks. Plus\, our staff is also here to help with: \n\ndaily living\nrecovery and wellness\nhousing\ncommunity resources and referrals\n\nThe Fellowship Club requires advance registration in order to participate. Registrations are paused at this time. If you would like to be contacted as soon as registrations open up again\, please call the main office line at (805)-884-8440.
URL:https://mentalwellnesscenter.org/event/fellowship-club/2026-10-22/
LOCATION:Mental Wellness Center – Fellowship Level\, 617 Garden Street\, Santa Barbara\, 93101\, United States
CATEGORIES:Fellowship Club
ATTACH;FMTTYPE=image/jpeg:https://mentalwellnesscenter.org/wp-content/uploads/2024/10/updated-fellowship-club.jpg
END:VEVENT
BEGIN:VEVENT
DTSTART;TZID=UTC:20261023T090000
DTEND;TZID=UTC:20261023T130000
DTSTAMP:20260421T200428
CREATED:20241003T191457Z
LAST-MODIFIED:20250203T192551Z
UID:10007445-1792746000-1792760400@mentalwellnesscenter.org
SUMMARY:Fellowship Club
DESCRIPTION:Wherever you are along your mental wellness and recovery journey\, at the Fellowship Club our staff is here to offer a listening ear and warm smile. As peers in mental wellness and recovery ourselves\, we emphasize honoring individuality and life experience\, and letting you decide when it’s right to connect with other members or participate in our daily offerings. \nEvery day you’ll enjoy a nourishing midday meal and snacks. Plus\, our staff is also here to help with: \n\ndaily living\nrecovery and wellness\nhousing\ncommunity resources and referrals\n\nThe Fellowship Club requires advance registration in order to participate. Registrations are paused at this time. If you would like to be contacted as soon as registrations open up again\, please call the main office line at (805)-884-8440.
URL:https://mentalwellnesscenter.org/event/fellowship-club/2026-10-23/
LOCATION:Mental Wellness Center – Fellowship Level\, 617 Garden Street\, Santa Barbara\, 93101\, United States
CATEGORIES:Fellowship Club
ATTACH;FMTTYPE=image/jpeg:https://mentalwellnesscenter.org/wp-content/uploads/2024/10/updated-fellowship-club.jpg
END:VEVENT
END:VCALENDAR