BEGIN:VCALENDAR
VERSION:2.0
PRODID:-//Mental Wellness Center - ECPv6.15.20//NONSGML v1.0//EN
CALSCALE:GREGORIAN
METHOD:PUBLISH
X-WR-CALNAME:Mental Wellness Center
X-ORIGINAL-URL:https://mentalwellnesscenter.org
X-WR-CALDESC:Events for Mental Wellness Center
REFRESH-INTERVAL;VALUE=DURATION:PT1H
X-Robots-Tag:noindex
X-PUBLISHED-TTL:PT1H
BEGIN:VTIMEZONE
TZID:UTC
BEGIN:STANDARD
TZOFFSETFROM:+0000
TZOFFSETTO:+0000
TZNAME:UTC
DTSTART:20250101T000000
END:STANDARD
END:VTIMEZONE
BEGIN:VEVENT
DTSTART;TZID=UTC:20260423T180000
DTEND;TZID=UTC:20260423T193000
DTSTAMP:20260419T153649
CREATED:20251027T180639Z
LAST-MODIFIED:20251105T200506Z
UID:10012407-1776967200-1776972600@mentalwellnesscenter.org
SUMMARY:Family Support Group
DESCRIPTION:A group for individuals who have adult loved-ones living with a mental health disorder. \nShare your story and find people with similar experiences. Call (805)-884-8440 to register.
URL:https://mentalwellnesscenter.org/event/family-support-group-5/2026-04-23/
LOCATION:Mental Wellness Center – Conference Room B
CATEGORIES:Community Wellness Program
ATTACH;FMTTYPE=image/jpeg:https://mentalwellnesscenter.org/wp-content/uploads/2023/11/temp-family-support-group.jpg
END:VEVENT
BEGIN:VEVENT
DTSTART;TZID=UTC:20260424T090000
DTEND;TZID=UTC:20260424T103000
DTSTAMP:20260419T153649
CREATED:20250602T185303Z
LAST-MODIFIED:20250804T170722Z
UID:10011470-1777021200-1777026600@mentalwellnesscenter.org
SUMMARY:Mothers Offering Motivation and Support (M.O.M.S)
DESCRIPTION:A support group for mothers with an adult child struggling with a mental health disorder. \nM.O.M.S provides a safe space for moms to share experiences offer encouragement\, and learn coping strategies. Together we build a community of strength\, hope\, and understanding. You’re not alone – join us for motivation on this journey. \nThis group meets in person at Mental Wellness Center’s Conference Room A\, located at 617 Garden Street. If you are interested in registering for this group\, please contact the office\, (805)-884-8440.
URL:https://mentalwellnesscenter.org/event/family-support-group-3-2-4-2-2/2026-04-24/
LOCATION:Mental Wellness Center\, 617 Garden Street\, Santa Barbara\, CA\, 93101\, United States
CATEGORIES:Community Wellness Program
ATTACH;FMTTYPE=image/jpeg:https://mentalwellnesscenter.org/wp-content/uploads/2024/05/MWC-Flyer-Template-.jpg
END:VEVENT
BEGIN:VEVENT
DTSTART;TZID=UTC:20260430T180000
DTEND;TZID=UTC:20260430T193000
DTSTAMP:20260419T153649
CREATED:20251027T180639Z
LAST-MODIFIED:20251105T200506Z
UID:10012408-1777572000-1777577400@mentalwellnesscenter.org
SUMMARY:Family Support Group
DESCRIPTION:A group for individuals who have adult loved-ones living with a mental health disorder. \nShare your story and find people with similar experiences. Call (805)-884-8440 to register.
URL:https://mentalwellnesscenter.org/event/family-support-group-5/2026-04-30/
LOCATION:Mental Wellness Center – Conference Room B
CATEGORIES:Community Wellness Program
ATTACH;FMTTYPE=image/jpeg:https://mentalwellnesscenter.org/wp-content/uploads/2023/11/temp-family-support-group.jpg
END:VEVENT
BEGIN:VEVENT
DTSTART;TZID=UTC:20260501T090000
DTEND;TZID=UTC:20260501T103000
DTSTAMP:20260419T153649
CREATED:20250602T185303Z
LAST-MODIFIED:20250804T170722Z
UID:10011471-1777626000-1777631400@mentalwellnesscenter.org
SUMMARY:Mothers Offering Motivation and Support (M.O.M.S)
DESCRIPTION:A support group for mothers with an adult child struggling with a mental health disorder. \nM.O.M.S provides a safe space for moms to share experiences offer encouragement\, and learn coping strategies. Together we build a community of strength\, hope\, and understanding. You’re not alone – join us for motivation on this journey. \nThis group meets in person at Mental Wellness Center’s Conference Room A\, located at 617 Garden Street. If you are interested in registering for this group\, please contact the office\, (805)-884-8440.
URL:https://mentalwellnesscenter.org/event/family-support-group-3-2-4-2-2/2026-05-01/
LOCATION:Mental Wellness Center\, 617 Garden Street\, Santa Barbara\, CA\, 93101\, United States
CATEGORIES:Community Wellness Program
ATTACH;FMTTYPE=image/jpeg:https://mentalwellnesscenter.org/wp-content/uploads/2024/05/MWC-Flyer-Template-.jpg
END:VEVENT
BEGIN:VEVENT
DTSTART;TZID=UTC:20260507T180000
DTEND;TZID=UTC:20260507T193000
DTSTAMP:20260419T153649
CREATED:20251027T180639Z
LAST-MODIFIED:20251105T200506Z
UID:10012409-1778176800-1778182200@mentalwellnesscenter.org
SUMMARY:Family Support Group
DESCRIPTION:A group for individuals who have adult loved-ones living with a mental health disorder. \nShare your story and find people with similar experiences. Call (805)-884-8440 to register.
URL:https://mentalwellnesscenter.org/event/family-support-group-5/2026-05-07/
LOCATION:Mental Wellness Center – Conference Room B
CATEGORIES:Community Wellness Program
ATTACH;FMTTYPE=image/jpeg:https://mentalwellnesscenter.org/wp-content/uploads/2023/11/temp-family-support-group.jpg
END:VEVENT
BEGIN:VEVENT
DTSTART;TZID=UTC:20260508T090000
DTEND;TZID=UTC:20260508T103000
DTSTAMP:20260419T153649
CREATED:20250602T185303Z
LAST-MODIFIED:20250804T170722Z
UID:10011472-1778230800-1778236200@mentalwellnesscenter.org
SUMMARY:Mothers Offering Motivation and Support (M.O.M.S)
DESCRIPTION:A support group for mothers with an adult child struggling with a mental health disorder. \nM.O.M.S provides a safe space for moms to share experiences offer encouragement\, and learn coping strategies. Together we build a community of strength\, hope\, and understanding. You’re not alone – join us for motivation on this journey. \nThis group meets in person at Mental Wellness Center’s Conference Room A\, located at 617 Garden Street. If you are interested in registering for this group\, please contact the office\, (805)-884-8440.
URL:https://mentalwellnesscenter.org/event/family-support-group-3-2-4-2-2/2026-05-08/
LOCATION:Mental Wellness Center\, 617 Garden Street\, Santa Barbara\, CA\, 93101\, United States
CATEGORIES:Community Wellness Program
ATTACH;FMTTYPE=image/jpeg:https://mentalwellnesscenter.org/wp-content/uploads/2024/05/MWC-Flyer-Template-.jpg
END:VEVENT
BEGIN:VEVENT
DTSTART;TZID=UTC:20260514T180000
DTEND;TZID=UTC:20260514T193000
DTSTAMP:20260419T153649
CREATED:20251027T180639Z
LAST-MODIFIED:20251105T200506Z
UID:10012410-1778781600-1778787000@mentalwellnesscenter.org
SUMMARY:Family Support Group
DESCRIPTION:A group for individuals who have adult loved-ones living with a mental health disorder. \nShare your story and find people with similar experiences. Call (805)-884-8440 to register.
URL:https://mentalwellnesscenter.org/event/family-support-group-5/2026-05-14/
LOCATION:Mental Wellness Center – Conference Room B
CATEGORIES:Community Wellness Program
ATTACH;FMTTYPE=image/jpeg:https://mentalwellnesscenter.org/wp-content/uploads/2023/11/temp-family-support-group.jpg
END:VEVENT
BEGIN:VEVENT
DTSTART;TZID=UTC:20260515T090000
DTEND;TZID=UTC:20260515T103000
DTSTAMP:20260419T153649
CREATED:20250602T185303Z
LAST-MODIFIED:20250804T170722Z
UID:10011473-1778835600-1778841000@mentalwellnesscenter.org
SUMMARY:Mothers Offering Motivation and Support (M.O.M.S)
DESCRIPTION:A support group for mothers with an adult child struggling with a mental health disorder. \nM.O.M.S provides a safe space for moms to share experiences offer encouragement\, and learn coping strategies. Together we build a community of strength\, hope\, and understanding. You’re not alone – join us for motivation on this journey. \nThis group meets in person at Mental Wellness Center’s Conference Room A\, located at 617 Garden Street. If you are interested in registering for this group\, please contact the office\, (805)-884-8440.
URL:https://mentalwellnesscenter.org/event/family-support-group-3-2-4-2-2/2026-05-15/
LOCATION:Mental Wellness Center\, 617 Garden Street\, Santa Barbara\, CA\, 93101\, United States
CATEGORIES:Community Wellness Program
ATTACH;FMTTYPE=image/jpeg:https://mentalwellnesscenter.org/wp-content/uploads/2024/05/MWC-Flyer-Template-.jpg
END:VEVENT
BEGIN:VEVENT
DTSTART;TZID=UTC:20260521T180000
DTEND;TZID=UTC:20260521T193000
DTSTAMP:20260419T153649
CREATED:20251027T180639Z
LAST-MODIFIED:20251105T200506Z
UID:10012411-1779386400-1779391800@mentalwellnesscenter.org
SUMMARY:Family Support Group
DESCRIPTION:A group for individuals who have adult loved-ones living with a mental health disorder. \nShare your story and find people with similar experiences. Call (805)-884-8440 to register.
URL:https://mentalwellnesscenter.org/event/family-support-group-5/2026-05-21/
LOCATION:Mental Wellness Center – Conference Room B
CATEGORIES:Community Wellness Program
ATTACH;FMTTYPE=image/jpeg:https://mentalwellnesscenter.org/wp-content/uploads/2023/11/temp-family-support-group.jpg
END:VEVENT
BEGIN:VEVENT
DTSTART;TZID=UTC:20260522T090000
DTEND;TZID=UTC:20260522T103000
DTSTAMP:20260419T153649
CREATED:20250602T185303Z
LAST-MODIFIED:20250804T170722Z
UID:10011474-1779440400-1779445800@mentalwellnesscenter.org
SUMMARY:Mothers Offering Motivation and Support (M.O.M.S)
DESCRIPTION:A support group for mothers with an adult child struggling with a mental health disorder. \nM.O.M.S provides a safe space for moms to share experiences offer encouragement\, and learn coping strategies. Together we build a community of strength\, hope\, and understanding. You’re not alone – join us for motivation on this journey. \nThis group meets in person at Mental Wellness Center’s Conference Room A\, located at 617 Garden Street. If you are interested in registering for this group\, please contact the office\, (805)-884-8440.
URL:https://mentalwellnesscenter.org/event/family-support-group-3-2-4-2-2/2026-05-22/
LOCATION:Mental Wellness Center\, 617 Garden Street\, Santa Barbara\, CA\, 93101\, United States
CATEGORIES:Community Wellness Program
ATTACH;FMTTYPE=image/jpeg:https://mentalwellnesscenter.org/wp-content/uploads/2024/05/MWC-Flyer-Template-.jpg
END:VEVENT
BEGIN:VEVENT
DTSTART;TZID=UTC:20260528T180000
DTEND;TZID=UTC:20260528T193000
DTSTAMP:20260419T153649
CREATED:20251027T180639Z
LAST-MODIFIED:20251105T200506Z
UID:10012412-1779991200-1779996600@mentalwellnesscenter.org
SUMMARY:Family Support Group
DESCRIPTION:A group for individuals who have adult loved-ones living with a mental health disorder. \nShare your story and find people with similar experiences. Call (805)-884-8440 to register.
URL:https://mentalwellnesscenter.org/event/family-support-group-5/2026-05-28/
LOCATION:Mental Wellness Center – Conference Room B
CATEGORIES:Community Wellness Program
ATTACH;FMTTYPE=image/jpeg:https://mentalwellnesscenter.org/wp-content/uploads/2023/11/temp-family-support-group.jpg
END:VEVENT
BEGIN:VEVENT
DTSTART;TZID=UTC:20260529T090000
DTEND;TZID=UTC:20260529T103000
DTSTAMP:20260419T153649
CREATED:20250602T185303Z
LAST-MODIFIED:20250804T170722Z
UID:10011475-1780045200-1780050600@mentalwellnesscenter.org
SUMMARY:Mothers Offering Motivation and Support (M.O.M.S)
DESCRIPTION:A support group for mothers with an adult child struggling with a mental health disorder. \nM.O.M.S provides a safe space for moms to share experiences offer encouragement\, and learn coping strategies. Together we build a community of strength\, hope\, and understanding. You’re not alone – join us for motivation on this journey. \nThis group meets in person at Mental Wellness Center’s Conference Room A\, located at 617 Garden Street. If you are interested in registering for this group\, please contact the office\, (805)-884-8440.
URL:https://mentalwellnesscenter.org/event/family-support-group-3-2-4-2-2/2026-05-29/
LOCATION:Mental Wellness Center\, 617 Garden Street\, Santa Barbara\, CA\, 93101\, United States
CATEGORIES:Community Wellness Program
ATTACH;FMTTYPE=image/jpeg:https://mentalwellnesscenter.org/wp-content/uploads/2024/05/MWC-Flyer-Template-.jpg
END:VEVENT
BEGIN:VEVENT
DTSTART;TZID=UTC:20260604T180000
DTEND;TZID=UTC:20260604T193000
DTSTAMP:20260419T153649
CREATED:20251027T180639Z
LAST-MODIFIED:20251105T200506Z
UID:10012413-1780596000-1780601400@mentalwellnesscenter.org
SUMMARY:Family Support Group
DESCRIPTION:A group for individuals who have adult loved-ones living with a mental health disorder. \nShare your story and find people with similar experiences. Call (805)-884-8440 to register.
URL:https://mentalwellnesscenter.org/event/family-support-group-5/2026-06-04/
LOCATION:Mental Wellness Center – Conference Room B
CATEGORIES:Community Wellness Program
ATTACH;FMTTYPE=image/jpeg:https://mentalwellnesscenter.org/wp-content/uploads/2023/11/temp-family-support-group.jpg
END:VEVENT
BEGIN:VEVENT
DTSTART;TZID=UTC:20260605T090000
DTEND;TZID=UTC:20260605T103000
DTSTAMP:20260419T153649
CREATED:20250602T185303Z
LAST-MODIFIED:20250804T170722Z
UID:10011476-1780650000-1780655400@mentalwellnesscenter.org
SUMMARY:Mothers Offering Motivation and Support (M.O.M.S)
DESCRIPTION:A support group for mothers with an adult child struggling with a mental health disorder. \nM.O.M.S provides a safe space for moms to share experiences offer encouragement\, and learn coping strategies. Together we build a community of strength\, hope\, and understanding. You’re not alone – join us for motivation on this journey. \nThis group meets in person at Mental Wellness Center’s Conference Room A\, located at 617 Garden Street. If you are interested in registering for this group\, please contact the office\, (805)-884-8440.
URL:https://mentalwellnesscenter.org/event/family-support-group-3-2-4-2-2/2026-06-05/
LOCATION:Mental Wellness Center\, 617 Garden Street\, Santa Barbara\, CA\, 93101\, United States
CATEGORIES:Community Wellness Program
ATTACH;FMTTYPE=image/jpeg:https://mentalwellnesscenter.org/wp-content/uploads/2024/05/MWC-Flyer-Template-.jpg
END:VEVENT
BEGIN:VEVENT
DTSTART;TZID=UTC:20260611T180000
DTEND;TZID=UTC:20260611T193000
DTSTAMP:20260419T153649
CREATED:20251027T180639Z
LAST-MODIFIED:20251105T200506Z
UID:10012414-1781200800-1781206200@mentalwellnesscenter.org
SUMMARY:Family Support Group
DESCRIPTION:A group for individuals who have adult loved-ones living with a mental health disorder. \nShare your story and find people with similar experiences. Call (805)-884-8440 to register.
URL:https://mentalwellnesscenter.org/event/family-support-group-5/2026-06-11/
LOCATION:Mental Wellness Center – Conference Room B
CATEGORIES:Community Wellness Program
ATTACH;FMTTYPE=image/jpeg:https://mentalwellnesscenter.org/wp-content/uploads/2023/11/temp-family-support-group.jpg
END:VEVENT
BEGIN:VEVENT
DTSTART;TZID=UTC:20260612T090000
DTEND;TZID=UTC:20260612T103000
DTSTAMP:20260419T153649
CREATED:20250602T185303Z
LAST-MODIFIED:20250804T170722Z
UID:10011477-1781254800-1781260200@mentalwellnesscenter.org
SUMMARY:Mothers Offering Motivation and Support (M.O.M.S)
DESCRIPTION:A support group for mothers with an adult child struggling with a mental health disorder. \nM.O.M.S provides a safe space for moms to share experiences offer encouragement\, and learn coping strategies. Together we build a community of strength\, hope\, and understanding. You’re not alone – join us for motivation on this journey. \nThis group meets in person at Mental Wellness Center’s Conference Room A\, located at 617 Garden Street. If you are interested in registering for this group\, please contact the office\, (805)-884-8440.
URL:https://mentalwellnesscenter.org/event/family-support-group-3-2-4-2-2/2026-06-12/
LOCATION:Mental Wellness Center\, 617 Garden Street\, Santa Barbara\, CA\, 93101\, United States
CATEGORIES:Community Wellness Program
ATTACH;FMTTYPE=image/jpeg:https://mentalwellnesscenter.org/wp-content/uploads/2024/05/MWC-Flyer-Template-.jpg
END:VEVENT
BEGIN:VEVENT
DTSTART;TZID=UTC:20260618T180000
DTEND;TZID=UTC:20260618T193000
DTSTAMP:20260419T153649
CREATED:20251027T180639Z
LAST-MODIFIED:20251105T200506Z
UID:10012415-1781805600-1781811000@mentalwellnesscenter.org
SUMMARY:Family Support Group
DESCRIPTION:A group for individuals who have adult loved-ones living with a mental health disorder. \nShare your story and find people with similar experiences. Call (805)-884-8440 to register.
URL:https://mentalwellnesscenter.org/event/family-support-group-5/2026-06-18/
LOCATION:Mental Wellness Center – Conference Room B
CATEGORIES:Community Wellness Program
ATTACH;FMTTYPE=image/jpeg:https://mentalwellnesscenter.org/wp-content/uploads/2023/11/temp-family-support-group.jpg
END:VEVENT
BEGIN:VEVENT
DTSTART;TZID=UTC:20260619T090000
DTEND;TZID=UTC:20260619T103000
DTSTAMP:20260419T153649
CREATED:20250602T185303Z
LAST-MODIFIED:20250804T170722Z
UID:10011478-1781859600-1781865000@mentalwellnesscenter.org
SUMMARY:Mothers Offering Motivation and Support (M.O.M.S)
DESCRIPTION:A support group for mothers with an adult child struggling with a mental health disorder. \nM.O.M.S provides a safe space for moms to share experiences offer encouragement\, and learn coping strategies. Together we build a community of strength\, hope\, and understanding. You’re not alone – join us for motivation on this journey. \nThis group meets in person at Mental Wellness Center’s Conference Room A\, located at 617 Garden Street. If you are interested in registering for this group\, please contact the office\, (805)-884-8440.
URL:https://mentalwellnesscenter.org/event/family-support-group-3-2-4-2-2/2026-06-19/
LOCATION:Mental Wellness Center\, 617 Garden Street\, Santa Barbara\, CA\, 93101\, United States
CATEGORIES:Community Wellness Program
ATTACH;FMTTYPE=image/jpeg:https://mentalwellnesscenter.org/wp-content/uploads/2024/05/MWC-Flyer-Template-.jpg
END:VEVENT
BEGIN:VEVENT
DTSTART;TZID=UTC:20260625T180000
DTEND;TZID=UTC:20260625T193000
DTSTAMP:20260419T153649
CREATED:20251027T180639Z
LAST-MODIFIED:20251105T200506Z
UID:10012416-1782410400-1782415800@mentalwellnesscenter.org
SUMMARY:Family Support Group
DESCRIPTION:A group for individuals who have adult loved-ones living with a mental health disorder. \nShare your story and find people with similar experiences. Call (805)-884-8440 to register.
URL:https://mentalwellnesscenter.org/event/family-support-group-5/2026-06-25/
LOCATION:Mental Wellness Center – Conference Room B
CATEGORIES:Community Wellness Program
ATTACH;FMTTYPE=image/jpeg:https://mentalwellnesscenter.org/wp-content/uploads/2023/11/temp-family-support-group.jpg
END:VEVENT
BEGIN:VEVENT
DTSTART;TZID=UTC:20260626T090000
DTEND;TZID=UTC:20260626T103000
DTSTAMP:20260419T153649
CREATED:20250602T185303Z
LAST-MODIFIED:20250804T170722Z
UID:10011479-1782464400-1782469800@mentalwellnesscenter.org
SUMMARY:Mothers Offering Motivation and Support (M.O.M.S)
DESCRIPTION:A support group for mothers with an adult child struggling with a mental health disorder. \nM.O.M.S provides a safe space for moms to share experiences offer encouragement\, and learn coping strategies. Together we build a community of strength\, hope\, and understanding. You’re not alone – join us for motivation on this journey. \nThis group meets in person at Mental Wellness Center’s Conference Room A\, located at 617 Garden Street. If you are interested in registering for this group\, please contact the office\, (805)-884-8440.
URL:https://mentalwellnesscenter.org/event/family-support-group-3-2-4-2-2/2026-06-26/
LOCATION:Mental Wellness Center\, 617 Garden Street\, Santa Barbara\, CA\, 93101\, United States
CATEGORIES:Community Wellness Program
ATTACH;FMTTYPE=image/jpeg:https://mentalwellnesscenter.org/wp-content/uploads/2024/05/MWC-Flyer-Template-.jpg
END:VEVENT
BEGIN:VEVENT
DTSTART;TZID=UTC:20260702T180000
DTEND;TZID=UTC:20260702T193000
DTSTAMP:20260419T153649
CREATED:20251027T180639Z
LAST-MODIFIED:20251105T200506Z
UID:10012417-1783015200-1783020600@mentalwellnesscenter.org
SUMMARY:Family Support Group
DESCRIPTION:A group for individuals who have adult loved-ones living with a mental health disorder. \nShare your story and find people with similar experiences. Call (805)-884-8440 to register.
URL:https://mentalwellnesscenter.org/event/family-support-group-5/2026-07-02/
LOCATION:Mental Wellness Center – Conference Room B
CATEGORIES:Community Wellness Program
ATTACH;FMTTYPE=image/jpeg:https://mentalwellnesscenter.org/wp-content/uploads/2023/11/temp-family-support-group.jpg
END:VEVENT
BEGIN:VEVENT
DTSTART;TZID=UTC:20260703T090000
DTEND;TZID=UTC:20260703T103000
DTSTAMP:20260419T153649
CREATED:20250602T185303Z
LAST-MODIFIED:20250804T170722Z
UID:10011480-1783069200-1783074600@mentalwellnesscenter.org
SUMMARY:Mothers Offering Motivation and Support (M.O.M.S)
DESCRIPTION:A support group for mothers with an adult child struggling with a mental health disorder. \nM.O.M.S provides a safe space for moms to share experiences offer encouragement\, and learn coping strategies. Together we build a community of strength\, hope\, and understanding. You’re not alone – join us for motivation on this journey. \nThis group meets in person at Mental Wellness Center’s Conference Room A\, located at 617 Garden Street. If you are interested in registering for this group\, please contact the office\, (805)-884-8440.
URL:https://mentalwellnesscenter.org/event/family-support-group-3-2-4-2-2/2026-07-03/
LOCATION:Mental Wellness Center\, 617 Garden Street\, Santa Barbara\, CA\, 93101\, United States
CATEGORIES:Community Wellness Program
ATTACH;FMTTYPE=image/jpeg:https://mentalwellnesscenter.org/wp-content/uploads/2024/05/MWC-Flyer-Template-.jpg
END:VEVENT
BEGIN:VEVENT
DTSTART;TZID=UTC:20260709T180000
DTEND;TZID=UTC:20260709T193000
DTSTAMP:20260419T153649
CREATED:20251027T180639Z
LAST-MODIFIED:20251105T200506Z
UID:10012418-1783620000-1783625400@mentalwellnesscenter.org
SUMMARY:Family Support Group
DESCRIPTION:A group for individuals who have adult loved-ones living with a mental health disorder. \nShare your story and find people with similar experiences. Call (805)-884-8440 to register.
URL:https://mentalwellnesscenter.org/event/family-support-group-5/2026-07-09/
LOCATION:Mental Wellness Center – Conference Room B
CATEGORIES:Community Wellness Program
ATTACH;FMTTYPE=image/jpeg:https://mentalwellnesscenter.org/wp-content/uploads/2023/11/temp-family-support-group.jpg
END:VEVENT
BEGIN:VEVENT
DTSTART;TZID=UTC:20260710T090000
DTEND;TZID=UTC:20260710T103000
DTSTAMP:20260419T153649
CREATED:20250602T185303Z
LAST-MODIFIED:20250804T170722Z
UID:10011481-1783674000-1783679400@mentalwellnesscenter.org
SUMMARY:Mothers Offering Motivation and Support (M.O.M.S)
DESCRIPTION:A support group for mothers with an adult child struggling with a mental health disorder. \nM.O.M.S provides a safe space for moms to share experiences offer encouragement\, and learn coping strategies. Together we build a community of strength\, hope\, and understanding. You’re not alone – join us for motivation on this journey. \nThis group meets in person at Mental Wellness Center’s Conference Room A\, located at 617 Garden Street. If you are interested in registering for this group\, please contact the office\, (805)-884-8440.
URL:https://mentalwellnesscenter.org/event/family-support-group-3-2-4-2-2/2026-07-10/
LOCATION:Mental Wellness Center\, 617 Garden Street\, Santa Barbara\, CA\, 93101\, United States
CATEGORIES:Community Wellness Program
ATTACH;FMTTYPE=image/jpeg:https://mentalwellnesscenter.org/wp-content/uploads/2024/05/MWC-Flyer-Template-.jpg
END:VEVENT
BEGIN:VEVENT
DTSTART;TZID=UTC:20260716T180000
DTEND;TZID=UTC:20260716T193000
DTSTAMP:20260419T153649
CREATED:20251027T180639Z
LAST-MODIFIED:20251105T200506Z
UID:10012419-1784224800-1784230200@mentalwellnesscenter.org
SUMMARY:Family Support Group
DESCRIPTION:A group for individuals who have adult loved-ones living with a mental health disorder. \nShare your story and find people with similar experiences. Call (805)-884-8440 to register.
URL:https://mentalwellnesscenter.org/event/family-support-group-5/2026-07-16/
LOCATION:Mental Wellness Center – Conference Room B
CATEGORIES:Community Wellness Program
ATTACH;FMTTYPE=image/jpeg:https://mentalwellnesscenter.org/wp-content/uploads/2023/11/temp-family-support-group.jpg
END:VEVENT
BEGIN:VEVENT
DTSTART;TZID=UTC:20260717T090000
DTEND;TZID=UTC:20260717T103000
DTSTAMP:20260419T153649
CREATED:20250602T185303Z
LAST-MODIFIED:20250804T170722Z
UID:10011482-1784278800-1784284200@mentalwellnesscenter.org
SUMMARY:Mothers Offering Motivation and Support (M.O.M.S)
DESCRIPTION:A support group for mothers with an adult child struggling with a mental health disorder. \nM.O.M.S provides a safe space for moms to share experiences offer encouragement\, and learn coping strategies. Together we build a community of strength\, hope\, and understanding. You’re not alone – join us for motivation on this journey. \nThis group meets in person at Mental Wellness Center’s Conference Room A\, located at 617 Garden Street. If you are interested in registering for this group\, please contact the office\, (805)-884-8440.
URL:https://mentalwellnesscenter.org/event/family-support-group-3-2-4-2-2/2026-07-17/
LOCATION:Mental Wellness Center\, 617 Garden Street\, Santa Barbara\, CA\, 93101\, United States
CATEGORIES:Community Wellness Program
ATTACH;FMTTYPE=image/jpeg:https://mentalwellnesscenter.org/wp-content/uploads/2024/05/MWC-Flyer-Template-.jpg
END:VEVENT
BEGIN:VEVENT
DTSTART;TZID=UTC:20260723T180000
DTEND;TZID=UTC:20260723T193000
DTSTAMP:20260419T153649
CREATED:20251027T180639Z
LAST-MODIFIED:20251105T200506Z
UID:10012420-1784829600-1784835000@mentalwellnesscenter.org
SUMMARY:Family Support Group
DESCRIPTION:A group for individuals who have adult loved-ones living with a mental health disorder. \nShare your story and find people with similar experiences. Call (805)-884-8440 to register.
URL:https://mentalwellnesscenter.org/event/family-support-group-5/2026-07-23/
LOCATION:Mental Wellness Center – Conference Room B
CATEGORIES:Community Wellness Program
ATTACH;FMTTYPE=image/jpeg:https://mentalwellnesscenter.org/wp-content/uploads/2023/11/temp-family-support-group.jpg
END:VEVENT
BEGIN:VEVENT
DTSTART;TZID=UTC:20260724T090000
DTEND;TZID=UTC:20260724T103000
DTSTAMP:20260419T153649
CREATED:20250602T185303Z
LAST-MODIFIED:20250804T170722Z
UID:10011483-1784883600-1784889000@mentalwellnesscenter.org
SUMMARY:Mothers Offering Motivation and Support (M.O.M.S)
DESCRIPTION:A support group for mothers with an adult child struggling with a mental health disorder. \nM.O.M.S provides a safe space for moms to share experiences offer encouragement\, and learn coping strategies. Together we build a community of strength\, hope\, and understanding. You’re not alone – join us for motivation on this journey. \nThis group meets in person at Mental Wellness Center’s Conference Room A\, located at 617 Garden Street. If you are interested in registering for this group\, please contact the office\, (805)-884-8440.
URL:https://mentalwellnesscenter.org/event/family-support-group-3-2-4-2-2/2026-07-24/
LOCATION:Mental Wellness Center\, 617 Garden Street\, Santa Barbara\, CA\, 93101\, United States
CATEGORIES:Community Wellness Program
ATTACH;FMTTYPE=image/jpeg:https://mentalwellnesscenter.org/wp-content/uploads/2024/05/MWC-Flyer-Template-.jpg
END:VEVENT
BEGIN:VEVENT
DTSTART;TZID=UTC:20260730T180000
DTEND;TZID=UTC:20260730T193000
DTSTAMP:20260419T153649
CREATED:20251027T180639Z
LAST-MODIFIED:20251105T200506Z
UID:10012421-1785434400-1785439800@mentalwellnesscenter.org
SUMMARY:Family Support Group
DESCRIPTION:A group for individuals who have adult loved-ones living with a mental health disorder. \nShare your story and find people with similar experiences. Call (805)-884-8440 to register.
URL:https://mentalwellnesscenter.org/event/family-support-group-5/2026-07-30/
LOCATION:Mental Wellness Center – Conference Room B
CATEGORIES:Community Wellness Program
ATTACH;FMTTYPE=image/jpeg:https://mentalwellnesscenter.org/wp-content/uploads/2023/11/temp-family-support-group.jpg
END:VEVENT
BEGIN:VEVENT
DTSTART;TZID=UTC:20260731T090000
DTEND;TZID=UTC:20260731T103000
DTSTAMP:20260419T153649
CREATED:20250602T185303Z
LAST-MODIFIED:20250804T170722Z
UID:10011484-1785488400-1785493800@mentalwellnesscenter.org
SUMMARY:Mothers Offering Motivation and Support (M.O.M.S)
DESCRIPTION:A support group for mothers with an adult child struggling with a mental health disorder. \nM.O.M.S provides a safe space for moms to share experiences offer encouragement\, and learn coping strategies. Together we build a community of strength\, hope\, and understanding. You’re not alone – join us for motivation on this journey. \nThis group meets in person at Mental Wellness Center’s Conference Room A\, located at 617 Garden Street. If you are interested in registering for this group\, please contact the office\, (805)-884-8440.
URL:https://mentalwellnesscenter.org/event/family-support-group-3-2-4-2-2/2026-07-31/
LOCATION:Mental Wellness Center\, 617 Garden Street\, Santa Barbara\, CA\, 93101\, United States
CATEGORIES:Community Wellness Program
ATTACH;FMTTYPE=image/jpeg:https://mentalwellnesscenter.org/wp-content/uploads/2024/05/MWC-Flyer-Template-.jpg
END:VEVENT
END:VCALENDAR